BEGIN:VCALENDAR
VERSION:2.0
PRODID:-//Santa Maria Association of Realtors - ECPv6.15.20//NONSGML v1.0//EN
CALSCALE:GREGORIAN
METHOD:PUBLISH
X-WR-CALNAME:Santa Maria Association of Realtors
X-ORIGINAL-URL:https://www.smaor.com
X-WR-CALDESC:Events for Santa Maria Association of Realtors
REFRESH-INTERVAL;VALUE=DURATION:PT1H
X-Robots-Tag:noindex
X-PUBLISHED-TTL:PT1H
BEGIN:VTIMEZONE
TZID:America/Los_Angeles
BEGIN:DAYLIGHT
TZOFFSETFROM:-0800
TZOFFSETTO:-0700
TZNAME:PDT
DTSTART:20220313T100000
END:DAYLIGHT
BEGIN:STANDARD
TZOFFSETFROM:-0700
TZOFFSETTO:-0800
TZNAME:PST
DTSTART:20221106T090000
END:STANDARD
BEGIN:DAYLIGHT
TZOFFSETFROM:-0800
TZOFFSETTO:-0700
TZNAME:PDT
DTSTART:20230312T100000
END:DAYLIGHT
BEGIN:STANDARD
TZOFFSETFROM:-0700
TZOFFSETTO:-0800
TZNAME:PST
DTSTART:20231105T090000
END:STANDARD
BEGIN:DAYLIGHT
TZOFFSETFROM:-0800
TZOFFSETTO:-0700
TZNAME:PDT
DTSTART:20240310T100000
END:DAYLIGHT
BEGIN:STANDARD
TZOFFSETFROM:-0700
TZOFFSETTO:-0800
TZNAME:PST
DTSTART:20241103T090000
END:STANDARD
BEGIN:DAYLIGHT
TZOFFSETFROM:-0800
TZOFFSETTO:-0700
TZNAME:PDT
DTSTART:20250309T100000
END:DAYLIGHT
BEGIN:STANDARD
TZOFFSETFROM:-0700
TZOFFSETTO:-0800
TZNAME:PST
DTSTART:20251102T090000
END:STANDARD
END:VTIMEZONE
BEGIN:VEVENT
DTSTART;TZID=America/Los_Angeles:20231003T090000
DTEND;TZID=America/Los_Angeles:20231003T100000
DTSTAMP:20260424T014057
CREATED:20230926T171358Z
LAST-MODIFIED:20230926T171358Z
UID:27899-1696323600-1696327200@www.smaor.com
SUMMARY:October MLS Meeting
DESCRIPTION:
URL:https://www.smaor.com/event/october-mls-meeting/
LOCATION:Santa Maria Association of Realtors\, 2236 S Broadway Ste E\, Santa Maria\, CA\, 93458
END:VEVENT
BEGIN:VEVENT
DTSTART;TZID=America/Los_Angeles:20231019T090000
DTEND;TZID=America/Los_Angeles:20231019T150000
DTSTAMP:20260424T014057
CREATED:20230809T220040Z
LAST-MODIFIED:20230809T220040Z
UID:27849-1697706000-1697727600@www.smaor.com
SUMMARY:SBRPA - Property Management Essentials
DESCRIPTION:
URL:https://www.smaor.com/event/sbrpa-property-management-essentials/
END:VEVENT
BEGIN:VEVENT
DTSTART;TZID=America/Los_Angeles:20231031T113000
DTEND;TZID=America/Los_Angeles:20231031T140000
DTSTAMP:20260424T014057
CREATED:20231019T165849Z
LAST-MODIFIED:20231019T170627Z
UID:27924-1698751800-1698760800@www.smaor.com
SUMMARY:SMAOR Scholarship Fundraiser
DESCRIPTION:
URL:https://www.smaor.com/event/smaor-scholarship-fundraiser/
END:VEVENT
BEGIN:VEVENT
DTSTART;VALUE=DATE:20231110
DTEND;VALUE=DATE:20231111
DTSTAMP:20260424T014057
CREATED:20231109T001841Z
LAST-MODIFIED:20231109T001841Z
UID:27940-1699574400-1699660799@www.smaor.com
SUMMARY:SMAOR - Office Closed
DESCRIPTION:
URL:https://www.smaor.com/event/smaor-office-closed/
END:VEVENT
BEGIN:VEVENT
DTSTART;TZID=America/Los_Angeles:20231110T100000
DTEND;TZID=America/Los_Angeles:20231110T120000
DTSTAMP:20260424T014057
CREATED:20231103T232027Z
LAST-MODIFIED:20231103T232027Z
UID:27935-1699610400-1699617600@www.smaor.com
SUMMARY:Business Plan
DESCRIPTION:
URL:https://www.smaor.com/event/business-plan/
END:VEVENT
BEGIN:VEVENT
DTSTART;VALUE=DATE:20231123
DTEND;VALUE=DATE:20231125
DTSTAMP:20260424T014057
CREATED:20230310T211212Z
LAST-MODIFIED:20230310T211251Z
UID:27735-1700697600-1700870399@www.smaor.com
SUMMARY:Office Closed - Thanksgiving
DESCRIPTION:
URL:https://www.smaor.com/event/office-closed-thanksgiving/
END:VEVENT
BEGIN:VEVENT
DTSTART;TZID=America/Los_Angeles:20231205T090000
DTEND;TZID=America/Los_Angeles:20231205T100000
DTSTAMP:20260424T014057
CREATED:20231113T235303Z
LAST-MODIFIED:20231113T235303Z
UID:27945-1701766800-1701770400@www.smaor.com
SUMMARY:December MLS Meeting - In-Person ONLY
DESCRIPTION:
URL:https://www.smaor.com/event/december-mls-meeting-in-person-only-2/
LOCATION:Santa Maria Association of Realtors\, 2236 S Broadway Ste E\, Santa Maria\, CA\, 93458
END:VEVENT
BEGIN:VEVENT
DTSTART;VALUE=DATE:20231225
DTEND;VALUE=DATE:20231227
DTSTAMP:20260424T014057
CREATED:20231114T192514Z
LAST-MODIFIED:20231215T214417Z
UID:27955-1703462400-1703635199@www.smaor.com
SUMMARY:SMAOR Office CLOSED
DESCRIPTION:
URL:https://www.smaor.com/event/smaor-office-closed-4/
END:VEVENT
BEGIN:VEVENT
DTSTART;VALUE=DATE:20240101
DTEND;VALUE=DATE:20240103
DTSTAMP:20260424T014057
CREATED:20231215T214500Z
LAST-MODIFIED:20231215T214500Z
UID:28030-1704067200-1704239999@www.smaor.com
SUMMARY:SMAOR Office CLOSED
DESCRIPTION:
URL:https://www.smaor.com/event/smaor-office-closed-2/
END:VEVENT
BEGIN:VEVENT
DTSTART;TZID=America/Los_Angeles:20240109T090000
DTEND;TZID=America/Los_Angeles:20240109T100000
DTSTAMP:20260424T014057
CREATED:20240105T191427Z
LAST-MODIFIED:20240105T191427Z
UID:28058-1704790800-1704794400@www.smaor.com
SUMMARY:MLS Meeting - 2024 Committees Introduction
DESCRIPTION:Join us at 9AM as we present our 2024 SMAOR Committees.\nCaravan will frollow from 10:30AM – 12:30PM.
URL:https://www.smaor.com/event/mls-meeting-2024-committees-introduction/
END:VEVENT
BEGIN:VEVENT
DTSTART;VALUE=DATE:20240115
DTEND;VALUE=DATE:20240116
DTSTAMP:20260424T014057
CREATED:20240108T204656Z
LAST-MODIFIED:20240110T233120Z
UID:28067-1705276800-1705363199@www.smaor.com
SUMMARY:SMAOR Office CLOSED - MLK Holiday
DESCRIPTION:
URL:https://www.smaor.com/event/smaor-office-closed-mlk-holiday/
END:VEVENT
BEGIN:VEVENT
DTSTART;TZID=America/Los_Angeles:20240118T163000
DTEND;TZID=America/Los_Angeles:20240118T200000
DTSTAMP:20260424T014057
CREATED:20231220T232347Z
LAST-MODIFIED:20231220T232347Z
UID:28046-1705595400-1705608000@www.smaor.com
SUMMARY:Installation of 2024 Officers & Directors
DESCRIPTION:
URL:https://www.smaor.com/event/installation-of-2024-officers-directors/
END:VEVENT
BEGIN:VEVENT
DTSTART;TZID=America/Los_Angeles:20240125T110000
DTEND;TZID=America/Los_Angeles:20240125T120000
DTSTAMP:20260424T014057
CREATED:20240108T162216Z
LAST-MODIFIED:20240108T162713Z
UID:28063-1706180400-1706184000@www.smaor.com
SUMMARY:Lunch + Learn
DESCRIPTION:
URL:https://www.smaor.com/event/lunch-learn/
LOCATION:Santa Maria Association of Realtors\, 2236 S Broadway Ste E\, Santa Maria\, CA\, 93458
END:VEVENT
BEGIN:VEVENT
DTSTART;TZID=America/Los_Angeles:20240131T080000
DTEND;TZID=America/Los_Angeles:20240131T170000
DTSTAMP:20260424T014057
CREATED:20240105T191224Z
LAST-MODIFIED:20240105T191224Z
UID:28056-1706688000-1706720400@www.smaor.com
SUMMARY:2024 Realtor Dues Deadline
DESCRIPTION:If you have not yet paid your 2024 Realtor Dues\, today is the last day to pay your fees to avoid late charges.\nPlease follow this link below to login and make your payment online\, if you have issue please call us at 805-922-7888. Bonnie can help process your payment over the phone.\nClick on the image below to be routed to nar.realtor or copy the link into your browser.\nhttps://secure.realtor.org/ecommenu.nsf/LoginUserInfo?createdocument&Login \n 
URL:https://www.smaor.com/event/2024-realtor-dues-deadline/
END:VEVENT
BEGIN:VEVENT
DTSTART;TZID=America/Los_Angeles:20240206T090000
DTEND;TZID=America/Los_Angeles:20240206T100000
DTSTAMP:20260424T014057
CREATED:20240105T191919Z
LAST-MODIFIED:20240110T171441Z
UID:28060-1707210000-1707213600@www.smaor.com
SUMMARY:MLS Meeting - 9AM
DESCRIPTION:Join us at 9AM \nMore details coming soon….\nCaravan will frollow from 10:30AM – 12:30PM.
URL:https://www.smaor.com/event/mls-meeting-city-of-santa-maria-community-development-department/
END:VEVENT
BEGIN:VEVENT
DTSTART;VALUE=DATE:20240219
DTEND;VALUE=DATE:20240220
DTSTAMP:20260424T014057
CREATED:20240110T230845Z
LAST-MODIFIED:20240110T233053Z
UID:28129-1708300800-1708387199@www.smaor.com
SUMMARY:SMAOR Office CLOSED - President's Day
DESCRIPTION:
URL:https://www.smaor.com/event/smaor-office-closed-presidents-day/
LOCATION:Santa Maria Association of Realtors\, 2236 S Broadway Ste E\, Santa Maria\, CA\, 93458
END:VEVENT
BEGIN:VEVENT
DTSTART;TZID=America/Los_Angeles:20240220T090000
DTEND;TZID=America/Los_Angeles:20240220T100000
DTSTAMP:20260424T014057
CREATED:20240110T171515Z
LAST-MODIFIED:20240110T171735Z
UID:28084-1708419600-1708423200@www.smaor.com
SUMMARY:MLS Meeting - 9AM
DESCRIPTION:Join us at 9AM \nMore details coming soon….\nCaravan will frollow from 10:30AM – 12:30PM.
URL:https://www.smaor.com/event/mls-meeting-9am/
LOCATION:Santa Maria Association of Realtors\, 2236 S Broadway Ste E\, Santa Maria\, CA\, 93458
END:VEVENT
BEGIN:VEVENT
DTSTART;TZID=America/Los_Angeles:20240222T110000
DTEND;TZID=America/Los_Angeles:20240222T120000
DTSTAMP:20260424T014057
CREATED:20240108T234305Z
LAST-MODIFIED:20240207T163928Z
UID:28074-1708599600-1708603200@www.smaor.com
SUMMARY:Sentrilock Training - Inperson!!
DESCRIPTION:
URL:https://www.smaor.com/event/sentrilock-training-inperson/
END:VEVENT
BEGIN:VEVENT
DTSTART;TZID=America/Los_Angeles:20240229T130000
DTEND;TZID=America/Los_Angeles:20240229T140000
DTSTAMP:20260424T014057
CREATED:20240222T231839Z
LAST-MODIFIED:20240222T231839Z
UID:28208-1709211600-1709215200@www.smaor.com
SUMMARY:Fidelity National Title & Central Coast Moving & Storage
DESCRIPTION:
URL:https://www.smaor.com/event/fidelity-national-title-central-coast-moving-storage/
LOCATION:Santa Maria Association of Realtors\, 2236 S Broadway Ste E\, Santa Maria\, CA\, 93458
END:VEVENT
BEGIN:VEVENT
DTSTART;TZID=America/Los_Angeles:20240305T090000
DTEND;TZID=America/Los_Angeles:20240305T100000
DTSTAMP:20260424T014057
CREATED:20240110T171929Z
LAST-MODIFIED:20240304T165552Z
UID:28088-1709629200-1709632800@www.smaor.com
SUMMARY:MLS Meeting - 9AM
DESCRIPTION:Join us at 9AM \nCAR Governmetn Affairs Director\, Samih Sger\n \nCaravan will frollow from 10:30AM – 12:30PM.
URL:https://www.smaor.com/event/mls-meeting-9am-2/
LOCATION:Santa Maria Association of Realtors\, 2236 S Broadway Ste E\, Santa Maria\, CA\, 93458
END:VEVENT
BEGIN:VEVENT
DTSTART;TZID=America/Los_Angeles:20240314T100000
DTEND;TZID=America/Los_Angeles:20240314T110000
DTSTAMP:20260424T014057
CREATED:20240304T181535Z
LAST-MODIFIED:20240304T181535Z
UID:28219-1710410400-1710414000@www.smaor.com
SUMMARY:Santa Maria AOR Lone Wolf Transactions (zipForm Edition) Training 2024
DESCRIPTION:Mar 14\, 2024 10:00 AM\n \nImprove your transaction management with Lone Wolf Transactions (zipForm Edition). Schedule tasks like forms due dates\, home inspections\, and more using Lone Wolf Transactions (zipForm Edition)\nTopic includes:\n1. In-depth training of zipForm® Plus\n2. zipLogix AuthentiSign and DocuSign® digital signatures\n3. Forms Tutor®\nRegister today!\nhttps://carorg.zoom.us/webinar/register/WN_lRbNBVqPQNSZF0jjgyEZiQ\n 
URL:https://www.smaor.com/event/santa-maria-aor-lone-wolf-transactions-zipform-edition-training-2024/
LOCATION:Online
END:VEVENT
BEGIN:VEVENT
DTSTART;TZID=America/Los_Angeles:20240319T090000
DTEND;TZID=America/Los_Angeles:20240319T100000
DTSTAMP:20260424T014057
CREATED:20240110T222629Z
LAST-MODIFIED:20240304T165723Z
UID:28090-1710838800-1710842400@www.smaor.com
SUMMARY:MLS Meeting -9AM
DESCRIPTION:Join us at 9AM \nEric Vitale\nSenior Investigator\nReal Estate & Financial Crimes\nOffice of the District Attorney\nSan Luis Obispo County \nCaravan will frollow from 10:30AM – 12:30PM.
URL:https://www.smaor.com/event/mls-meeting-9am-3/
LOCATION:Santa Maria Association of Realtors\, 2236 S Broadway Ste E\, Santa Maria\, CA\, 93458
END:VEVENT
BEGIN:VEVENT
DTSTART;TZID=America/Los_Angeles:20240321T110000
DTEND;TZID=America/Los_Angeles:20240321T120000
DTSTAMP:20260424T014057
CREATED:20240304T182439Z
LAST-MODIFIED:20240307T194137Z
UID:28221-1711018800-1711022400@www.smaor.com
SUMMARY:Zipform Trainings - RSVP Today!!!
DESCRIPTION:
URL:https://www.smaor.com/event/zipform-trainings-rsvp-today/
LOCATION:Santa Maria Association of Realtors\, 2236 S Broadway Ste E\, Santa Maria\, CA\, 93458
END:VEVENT
BEGIN:VEVENT
DTSTART;TZID=America/Los_Angeles:20240402T090000
DTEND;TZID=America/Los_Angeles:20240402T100000
DTSTAMP:20260424T014057
CREATED:20240110T222713Z
LAST-MODIFIED:20240110T222713Z
UID:28092-1712048400-1712052000@www.smaor.com
SUMMARY:MLS Meeting - 9AM
DESCRIPTION:Join us at 9AM \nMore details coming soon….\nCaravan will frollow from 10:30AM – 12:30PM.
URL:https://www.smaor.com/event/mls-meeting-9am-4/
LOCATION:Santa Maria Association of Realtors\, 2236 S Broadway Ste E\, Santa Maria\, CA\, 93458
END:VEVENT
BEGIN:VEVENT
DTSTART;TZID=America/Los_Angeles:20240416T090000
DTEND;TZID=America/Los_Angeles:20240416T100000
DTSTAMP:20260424T014057
CREATED:20240110T222804Z
LAST-MODIFIED:20240410T171907Z
UID:28094-1713258000-1713261600@www.smaor.com
SUMMARY:MLS Meeting - Frank Albro - Principal Planner City of SM
DESCRIPTION:Join us at 9AM with Guest Speaker\nFrank Albro\nPrincipal Planner\nCity of Santa Maria\, Community Development Department
URL:https://www.smaor.com/event/mls-meeting-9am-5/
LOCATION:Santa Maria Association of Realtors\, 2236 S Broadway Ste E\, Santa Maria\, CA\, 93458
END:VEVENT
BEGIN:VEVENT
DTSTART;TZID=America/Los_Angeles:20240418T110000
DTEND;TZID=America/Los_Angeles:20240418T120000
DTSTAMP:20260424T014057
CREATED:20240318T170250Z
LAST-MODIFIED:20240328T184314Z
UID:28231-1713438000-1713441600@www.smaor.com
SUMMARY:VA Home Loan Class For Realtors
DESCRIPTION:
URL:https://www.smaor.com/event/lunch-learn-2/
LOCATION:Santa Maria Association of Realtors\, 2236 S Broadway Ste E\, Santa Maria\, CA\, 93458
END:VEVENT
BEGIN:VEVENT
DTSTART;TZID=America/Los_Angeles:20240418T170000
DTEND;TZID=America/Los_Angeles:20240418T190000
DTSTAMP:20260424T014057
CREATED:20240319T182242Z
LAST-MODIFIED:20240319T182242Z
UID:28239-1713459600-1713466800@www.smaor.com
SUMMARY:Women's Council of REALTORS "APP-Y HOUR"
DESCRIPTION:
URL:https://www.smaor.com/event/womens-council-of-realtors-app-y-hour/
END:VEVENT
BEGIN:VEVENT
DTSTART;TZID=America/Los_Angeles:20240425T110000
DTEND;TZID=America/Los_Angeles:20240425T120000
DTSTAMP:20260424T014057
CREATED:20240327T153843Z
LAST-MODIFIED:20240327T153843Z
UID:28247-1714042800-1714046400@www.smaor.com
SUMMARY:Lunch + Learn - Differences Between A Will & Trusts
DESCRIPTION:
URL:https://www.smaor.com/event/lunch-learn-differences-between-a-will-trusts/
LOCATION:Santa Maria Association of Realtors\, 2236 S Broadway Ste E\, Santa Maria\, CA\, 93458
END:VEVENT
BEGIN:VEVENT
DTSTART;TZID=America/Los_Angeles:20240507T090000
DTEND;TZID=America/Los_Angeles:20240507T100000
DTSTAMP:20260424T014057
CREATED:20240110T222830Z
LAST-MODIFIED:20240110T222830Z
UID:28095-1715072400-1715076000@www.smaor.com
SUMMARY:MLS Meeting - 9AM
DESCRIPTION:Join us at 9AM \nMore details coming soon….\nCaravan will frollow from 10:30AM – 12:30PM.
URL:https://www.smaor.com/event/mls-meeting-9am-6/
LOCATION:Santa Maria Association of Realtors\, 2236 S Broadway Ste E\, Santa Maria\, CA\, 93458
END:VEVENT
BEGIN:VEVENT
DTSTART;TZID=America/Los_Angeles:20240509T100000
DTEND;TZID=America/Los_Angeles:20240509T110000
DTSTAMP:20260424T014057
CREATED:20240506T182049Z
LAST-MODIFIED:20240506T182049Z
UID:28280-1715248800-1715252400@www.smaor.com
SUMMARY:Wild Fire Disclosure Report
DESCRIPTION:Don’t miss out on a unique opportunity to enhance your understanding of wildfire risks and their implications for the residential real estate market in California. Join us for a highly informative webinar on May 9th at 10:00 am\, where FortressFire and guests will explore the purpose and practical value of the Wildfire Disclosure Report. We’ll also discuss some very important (and exciting!) updates you won’t want to miss. \nKey Takeaways: \n\nUnderstand the Purpose and Practical Value of the Wildfire Disclosure Report\nIllustrate Real Agent and Property Owner Experiences\nDiscover Upcoming Improvements to WFDR\nExplore the Additional Benefits of Onsite Ground Inspections\n\nAs a member of C.A.R.\, this webinar is a member benefit aimed at elevating your knowledge and positioning you as a proactive agent amidst the dynamic landscape of wildfire risks. \nThis is your final chance to secure your spot and equip yourself with vital knowledge to better serve your clients in today’s challenging real estate environment. Register now to guarantee your participation!
URL:https://www.smaor.com/event/wild-fire-disclosure-report/
LOCATION:Online
END:VEVENT
END:VCALENDAR