BEGIN:VCALENDAR
VERSION:2.0
PRODID:-//Santa Maria Association of Realtors - ECPv6.15.20//NONSGML v1.0//EN
CALSCALE:GREGORIAN
METHOD:PUBLISH
X-ORIGINAL-URL:https://www.smaor.com
X-WR-CALDESC:Events for Santa Maria Association of Realtors
REFRESH-INTERVAL;VALUE=DURATION:PT1H
X-Robots-Tag:noindex
X-PUBLISHED-TTL:PT1H
BEGIN:VTIMEZONE
TZID:America/Los_Angeles
BEGIN:DAYLIGHT
TZOFFSETFROM:-0800
TZOFFSETTO:-0700
TZNAME:PDT
DTSTART:20250309T100000
END:DAYLIGHT
BEGIN:STANDARD
TZOFFSETFROM:-0700
TZOFFSETTO:-0800
TZNAME:PST
DTSTART:20251102T090000
END:STANDARD
BEGIN:DAYLIGHT
TZOFFSETFROM:-0800
TZOFFSETTO:-0700
TZNAME:PDT
DTSTART:20260308T100000
END:DAYLIGHT
BEGIN:STANDARD
TZOFFSETFROM:-0700
TZOFFSETTO:-0800
TZNAME:PST
DTSTART:20261101T090000
END:STANDARD
BEGIN:DAYLIGHT
TZOFFSETFROM:-0800
TZOFFSETTO:-0700
TZNAME:PDT
DTSTART:20270314T100000
END:DAYLIGHT
BEGIN:STANDARD
TZOFFSETFROM:-0700
TZOFFSETTO:-0800
TZNAME:PST
DTSTART:20271107T090000
END:STANDARD
BEGIN:DAYLIGHT
TZOFFSETFROM:-0800
TZOFFSETTO:-0700
TZNAME:PDT
DTSTART:20280312T100000
END:DAYLIGHT
BEGIN:STANDARD
TZOFFSETFROM:-0700
TZOFFSETTO:-0800
TZNAME:PST
DTSTART:20281105T090000
END:STANDARD
END:VTIMEZONE
BEGIN:VEVENT
DTSTART;TZID=America/Los_Angeles:20260616T090000
DTEND;TZID=America/Los_Angeles:20260616T100000
DTSTAMP:20260425T094350
CREATED:20251107T122239Z
LAST-MODIFIED:20251107T122239Z
UID:29329-1781600400-1781604000@www.smaor.com
SUMMARY:MLS Meeting + Broker Tour:
DESCRIPTION:
URL:https://www.smaor.com/event/mls-meeting-broker-tour-35/
END:VEVENT
BEGIN:VEVENT
DTSTART;TZID=America/Los_Angeles:20260618T110000
DTEND;TZID=America/Los_Angeles:20260618T120000
DTSTAMP:20260425T094350
CREATED:20260225T234627Z
LAST-MODIFIED:20260225T234627Z
UID:29454-1781780400-1781784000@www.smaor.com
SUMMARY:RPR Mobile - AI CMA
DESCRIPTION:What if you could create a client-ready CMA from your phone in minutes instead of hours? The RPR Mobile AI CMA does exactly that. AI surfaces and scores comps\, suggests pricing strategies\, and you stay in full control selecting\, reordering or adding known properties. Your client gets a professional\, branded report. \nPerfect for: \n\nListing appointments when you need pricing fast\nBuyer consultations on the go\n“Quick question” calls that turn into opportunities\n\nWhat you’ll learn: \n\nGenerate Seller and Buyer CMAs from the subject property\nReview AI-scored comps and adjust based on market knowledge\nAdd known properties or remove outliers while staying in control\nPresent multi-tier pricing strategies backed by real data\nSend branded CMA reports directly from your phone\n\nThe best part? No laptop required. Just your phone\, your expertise and AI handling the grunt work. \nJoin us to see how the Mobile AI CMA is changing the way agents price properties—faster\, smarter and on-the-go. \n \n 
URL:https://www.smaor.com/event/rpr-mobile-ai-cma-4/
LOCATION:Online
END:VEVENT
BEGIN:VEVENT
DTSTART;TZID=America/Los_Angeles:20260707T090000
DTEND;TZID=America/Los_Angeles:20260707T100000
DTSTAMP:20260425T094350
CREATED:20251107T122344Z
LAST-MODIFIED:20251107T122344Z
UID:29331-1783414800-1783418400@www.smaor.com
SUMMARY:MLS Meeting + Broker Tour:
DESCRIPTION:
URL:https://www.smaor.com/event/mls-meeting-broker-tour-36/
END:VEVENT
BEGIN:VEVENT
DTSTART;TZID=America/Los_Angeles:20260721T090000
DTEND;TZID=America/Los_Angeles:20260721T100000
DTSTAMP:20260425T094350
CREATED:20251107T122459Z
LAST-MODIFIED:20251107T122459Z
UID:29333-1784624400-1784628000@www.smaor.com
SUMMARY:MLS Meeting + Broker Tour:
DESCRIPTION:
URL:https://www.smaor.com/event/mls-meeting-broker-tour-37/
END:VEVENT
BEGIN:VEVENT
DTSTART;TZID=America/Los_Angeles:20260804T090000
DTEND;TZID=America/Los_Angeles:20260804T100000
DTSTAMP:20260425T094350
CREATED:20251107T125700Z
LAST-MODIFIED:20251107T125700Z
UID:29335-1785834000-1785837600@www.smaor.com
SUMMARY:MLS Meeting + Broker Tour:
DESCRIPTION:
URL:https://www.smaor.com/event/mls-meeting-broker-tour-38/
END:VEVENT
BEGIN:VEVENT
DTSTART;TZID=America/Los_Angeles:20260818T090000
DTEND;TZID=America/Los_Angeles:20260818T100000
DTSTAMP:20260425T094350
CREATED:20251107T125812Z
LAST-MODIFIED:20251107T125812Z
UID:29337-1787043600-1787047200@www.smaor.com
SUMMARY:MLS Meeting + Broker Tour:
DESCRIPTION:
URL:https://www.smaor.com/event/mls-meeting-broker-tour-39/
END:VEVENT
BEGIN:VEVENT
DTSTART;TZID=America/Los_Angeles:20260901T090000
DTEND;TZID=America/Los_Angeles:20260901T100000
DTSTAMP:20260425T094350
CREATED:20251107T125858Z
LAST-MODIFIED:20251107T125858Z
UID:29339-1788253200-1788256800@www.smaor.com
SUMMARY:MLS Meeting + Broker Tour:
DESCRIPTION:
URL:https://www.smaor.com/event/mls-meeting-broker-tour-40/
END:VEVENT
BEGIN:VEVENT
DTSTART;TZID=America/Los_Angeles:20260915T090000
DTEND;TZID=America/Los_Angeles:20260915T100000
DTSTAMP:20260425T094350
CREATED:20251107T130024Z
LAST-MODIFIED:20251107T130024Z
UID:29341-1789462800-1789466400@www.smaor.com
SUMMARY:MLS Meeting + Broker Tour:
DESCRIPTION:
URL:https://www.smaor.com/event/mls-meeting-broker-tour-41/
END:VEVENT
BEGIN:VEVENT
DTSTART;TZID=America/Los_Angeles:20261020T090000
DTEND;TZID=America/Los_Angeles:20261020T100000
DTSTAMP:20260425T094350
CREATED:20251107T130126Z
LAST-MODIFIED:20251107T130126Z
UID:29343-1792486800-1792490400@www.smaor.com
SUMMARY:MLS Meeting + Broker Tour:
DESCRIPTION:
URL:https://www.smaor.com/event/mls-meeting-broker-tour-42/
END:VEVENT
BEGIN:VEVENT
DTSTART;TZID=America/Los_Angeles:20261103T090000
DTEND;TZID=America/Los_Angeles:20261103T100000
DTSTAMP:20260425T094350
CREATED:20251107T130208Z
LAST-MODIFIED:20251107T130208Z
UID:29345-1793696400-1793700000@www.smaor.com
SUMMARY:MLS Meeting + Broker Tour:
DESCRIPTION:
URL:https://www.smaor.com/event/mls-meeting-broker-tour-43/
END:VEVENT
BEGIN:VEVENT
DTSTART;TZID=America/Los_Angeles:20261110T090000
DTEND;TZID=America/Los_Angeles:20261110T100000
DTSTAMP:20260425T094350
CREATED:20251107T130302Z
LAST-MODIFIED:20251107T130302Z
UID:29347-1794301200-1794304800@www.smaor.com
SUMMARY:MLS Meeting + Broker Tour:
DESCRIPTION:
URL:https://www.smaor.com/event/mls-meeting-broker-tour-44/
END:VEVENT
BEGIN:VEVENT
DTSTART;TZID=America/Los_Angeles:20261117T090000
DTEND;TZID=America/Los_Angeles:20261117T100000
DTSTAMP:20260425T094350
CREATED:20251107T130403Z
LAST-MODIFIED:20251107T130403Z
UID:29349-1794906000-1794909600@www.smaor.com
SUMMARY:MLS Meeting + Broker Tour:
DESCRIPTION:
URL:https://www.smaor.com/event/mls-meeting-broker-tour-45/
END:VEVENT
BEGIN:VEVENT
DTSTART;TZID=America/Los_Angeles:20261201T090000
DTEND;TZID=America/Los_Angeles:20261201T100000
DTSTAMP:20260425T094350
CREATED:20251107T130447Z
LAST-MODIFIED:20251107T130447Z
UID:29351-1796115600-1796119200@www.smaor.com
SUMMARY:MLS Meeting + Broker Tour:
DESCRIPTION:
URL:https://www.smaor.com/event/mls-meeting-broker-tour-46/
END:VEVENT
BEGIN:VEVENT
DTSTART;TZID=America/Los_Angeles:20261215T090000
DTEND;TZID=America/Los_Angeles:20261215T100000
DTSTAMP:20260425T094350
CREATED:20251107T130527Z
LAST-MODIFIED:20251107T130527Z
UID:29353-1797325200-1797328800@www.smaor.com
SUMMARY:MLS Meeting + Broker Tour:
DESCRIPTION:
URL:https://www.smaor.com/event/mls-meeting-broker-tour-47/
END:VEVENT
BEGIN:VEVENT
DTSTART;TZID=America/Los_Angeles:20270105T090000
DTEND;TZID=America/Los_Angeles:20270105T100000
DTSTAMP:20260425T094350
CREATED:20251107T130624Z
LAST-MODIFIED:20251107T130624Z
UID:29355-1799139600-1799143200@www.smaor.com
SUMMARY:MLS Meeting + Broker Tour:
DESCRIPTION:
URL:https://www.smaor.com/event/mls-meeting-broker-tour-48/
END:VEVENT
END:VCALENDAR