BEGIN:VCALENDAR
VERSION:2.0
PRODID:-//Santa Maria Association of Realtors - ECPv6.15.20//NONSGML v1.0//EN
CALSCALE:GREGORIAN
METHOD:PUBLISH
X-ORIGINAL-URL:https://www.smaor.com
X-WR-CALDESC:Events for Santa Maria Association of Realtors
REFRESH-INTERVAL;VALUE=DURATION:PT1H
X-Robots-Tag:noindex
X-PUBLISHED-TTL:PT1H
BEGIN:VTIMEZONE
TZID:America/Los_Angeles
BEGIN:DAYLIGHT
TZOFFSETFROM:-0800
TZOFFSETTO:-0700
TZNAME:PDT
DTSTART:20180311T100000
END:DAYLIGHT
BEGIN:STANDARD
TZOFFSETFROM:-0700
TZOFFSETTO:-0800
TZNAME:PST
DTSTART:20181104T090000
END:STANDARD
BEGIN:DAYLIGHT
TZOFFSETFROM:-0800
TZOFFSETTO:-0700
TZNAME:PDT
DTSTART:20190310T100000
END:DAYLIGHT
BEGIN:STANDARD
TZOFFSETFROM:-0700
TZOFFSETTO:-0800
TZNAME:PST
DTSTART:20191103T090000
END:STANDARD
BEGIN:DAYLIGHT
TZOFFSETFROM:-0800
TZOFFSETTO:-0700
TZNAME:PDT
DTSTART:20200308T100000
END:DAYLIGHT
BEGIN:STANDARD
TZOFFSETFROM:-0700
TZOFFSETTO:-0800
TZNAME:PST
DTSTART:20201101T090000
END:STANDARD
END:VTIMEZONE
BEGIN:VEVENT
DTSTART;VALUE=DATE:20190627
DTEND;VALUE=DATE:20190628
DTSTAMP:20260422T014459
CREATED:20190417T175733Z
LAST-MODIFIED:20190611T212235Z
UID:26023-1561593600-1561679999@www.smaor.com
SUMMARY:Lender Panel
DESCRIPTION:Join us for a lender panel with: \nCommunity Bank of SM\nRabo Bank \n(More information coming soon time is still TBD)
URL:https://www.smaor.com/event/lender-panel/
LOCATION:Santa Maria Association of Realtors\, 2236 S Broadway Ste E\, Santa Maria\, CA\, 93458
END:VEVENT
BEGIN:VEVENT
DTSTART;VALUE=DATE:20190704
DTEND;VALUE=DATE:20190705
DTSTAMP:20260422T014459
CREATED:20190417T202433Z
LAST-MODIFIED:20190417T202848Z
UID:26029-1562198400-1562284799@www.smaor.com
SUMMARY:CLOSED- Independence Day
DESCRIPTION:
URL:https://www.smaor.com/event/closed-independence-day/
LOCATION:Santa Maria Association of Realtors\, 2236 S Broadway Ste E\, Santa Maria\, CA\, 93458
ATTACH;FMTTYPE=image/jpeg:https://www.smaor.com/wp-content/uploads/2019/04/Indeoendence-day-1024x636.jpg
END:VEVENT
BEGIN:VEVENT
DTSTART;TZID=America/Los_Angeles:20190710T100000
DTEND;TZID=America/Los_Angeles:20190710T140000
DTSTAMP:20260422T014459
CREATED:20190417T204003Z
LAST-MODIFIED:20190417T205959Z
UID:26035-1562752800-1562767200@www.smaor.com
SUMMARY:General Membership Meeting
DESCRIPTION:RSVP Only! \nJoin us for our 2019 General Membership Meeting.\nOur guest speaker will be Gov. Hutchinson
URL:https://www.smaor.com/event/general-membership-meeting/
LOCATION:Santa Maria Association of Realtors\, 2236 S Broadway Ste E\, Santa Maria\, CA\, 93458
END:VEVENT
BEGIN:VEVENT
DTSTART;TZID=America/Los_Angeles:20190725T100000
DTEND;TZID=America/Los_Angeles:20190725T110000
DTSTAMP:20260422T014459
CREATED:20190417T211100Z
LAST-MODIFIED:20190417T211100Z
UID:26050-1564048800-1564052400@www.smaor.com
SUMMARY:Appraisers Market View
DESCRIPTION:(more information coming soon)
URL:https://www.smaor.com/event/appraisers-market-view/
LOCATION:Santa Maria Association of Realtors\, 2236 S Broadway Ste E\, Santa Maria\, CA\, 93458
END:VEVENT
BEGIN:VEVENT
DTSTART;TZID=America/Los_Angeles:20190905T100000
DTEND;TZID=America/Los_Angeles:20190905T110000
DTSTAMP:20260422T014459
CREATED:20190820T203448Z
LAST-MODIFIED:20190820T203505Z
UID:26151-1567677600-1567681200@www.smaor.com
SUMMARY:Realtor Safety - Self Defense
DESCRIPTION:More information coming soon.
URL:https://www.smaor.com/event/realtor-safety-self-defense/
LOCATION:Santa Maria Association of Realtors\, 2236 S Broadway Ste E\, Santa Maria\, CA\, 93458
END:VEVENT
BEGIN:VEVENT
DTSTART;TZID=America/Los_Angeles:20190910T090000
DTEND;TZID=America/Los_Angeles:20190910T090000
DTSTAMP:20260422T014459
CREATED:20190820T203329Z
LAST-MODIFIED:20190820T204014Z
UID:26148-1568106000-1568106000@www.smaor.com
SUMMARY:September MLS Meeting
DESCRIPTION:MLS Meeting \nMore information coming soon.
URL:https://www.smaor.com/event/september-mls-meeting/
LOCATION:Santa Maria Association of Realtors\, 2236 S Broadway Ste E\, Santa Maria\, CA\, 93458
END:VEVENT
BEGIN:VEVENT
DTSTART;TZID=America/Los_Angeles:20190912T080000
DTEND;TZID=America/Los_Angeles:20190912T080000
DTSTAMP:20260422T014459
CREATED:20190820T203547Z
LAST-MODIFIED:20190820T203547Z
UID:26154-1568275200-1568275200@www.smaor.com
SUMMARY:Flex/ RPR Training
DESCRIPTION:More information coming soon.
URL:https://www.smaor.com/event/flex-rpr-training/
LOCATION:Santa Maria Association of Realtors\, 2236 S Broadway Ste E\, Santa Maria\, CA\, 93458
END:VEVENT
BEGIN:VEVENT
DTSTART;TZID=America/Los_Angeles:20190913T080000
DTEND;TZID=America/Los_Angeles:20190913T170000
DTSTAMP:20260422T014459
CREATED:20190820T204150Z
LAST-MODIFIED:20190820T204150Z
UID:26162-1568361600-1568394000@www.smaor.com
SUMMARY:Scholarship Fundraiser
DESCRIPTION:More Information Coming Soon.
URL:https://www.smaor.com/event/scholarship-fundraiser/
LOCATION:Santa Maria Association of Realtors\, 2236 S Broadway Ste E\, Santa Maria\, CA\, 93458
END:VEVENT
BEGIN:VEVENT
DTSTART;TZID=America/Los_Angeles:20191003T000000
DTEND;TZID=America/Los_Angeles:20191003T000000
DTSTAMP:20260422T014459
CREATED:20190417T211155Z
LAST-MODIFIED:20190820T203217Z
UID:26053-1570060800-1570060800@www.smaor.com
SUMMARY:Broker Manager Meeting
DESCRIPTION:Broker Manager meeting
URL:https://www.smaor.com/event/broker-manager-meeting/
LOCATION:Santa Maria Association of Realtors\, 2236 S Broadway Ste E\, Santa Maria\, CA\, 93458
END:VEVENT
BEGIN:VEVENT
DTSTART;TZID=America/Los_Angeles:20191018T110000
DTEND;TZID=America/Los_Angeles:20191018T130000
DTSTAMP:20260422T014459
CREATED:20190916T232930Z
LAST-MODIFIED:20190919T171951Z
UID:26184-1571396400-1571403600@www.smaor.com
SUMMARY:BBQ Fundraiser
DESCRIPTION:
URL:https://www.smaor.com/event/bbq-fundraiser/
LOCATION:Santa Maria Association of Realtors\, 2236 S Broadway Ste E\, Santa Maria\, CA\, 93458
CATEGORIES:Public
END:VEVENT
BEGIN:VEVENT
DTSTART;TZID=America/Los_Angeles:20191105T100000
DTEND;TZID=America/Los_Angeles:20191105T110000
DTSTAMP:20260422T014459
CREATED:20191101T161354Z
LAST-MODIFIED:20191101T161505Z
UID:26227-1572948000-1572951600@www.smaor.com
SUMMARY:Now is the Time to Learn the Basics in zipForm® Plus
DESCRIPTION:Now is the Time to Learn the Basics in zipForm® Plus\nTue\, Nov 5\, 2019 10:00 AM – 11:00 AM PST \nLearn the basics about zipForm® Plus and how easy it is to manage your transactions and templates. Sessions like these give REALTORS® a chance to see the tools they have access to in action. We will cover: • The basics of zipForm® Plus • Learn to create transactions • Learn to create templates If you cannot attend\, sign up anyway and we will send you a recording. \n  \nRegister today!
URL:https://www.smaor.com/event/now-is-the-time-to-learn-the-basics-in-zipform-plus/
LOCATION:Online
ATTACH;FMTTYPE=image/jpeg:https://www.smaor.com/wp-content/uploads/2019/11/Ziplogic-Logo.jpg
END:VEVENT
BEGIN:VEVENT
DTSTART;TZID=America/Los_Angeles:20191106T100000
DTEND;TZID=America/Los_Angeles:20191106T110000
DTSTAMP:20260422T014459
CREATED:20191101T161755Z
LAST-MODIFIED:20191101T161838Z
UID:26232-1573034400-1573038000@www.smaor.com
SUMMARY:Become an Expert with zipTMS™ and All the Advanced Features of zipForm® Plus
DESCRIPTION:Become an Expert with zipTMS™ and all the Advanced features of zipForm® Plus\nImprove your transaction management with zipTMS™. Schedule tasks like forms due dates\, home inspections and more using zipTMS™ inside zipForm® Plus. \n• Manage all transactions at once with the overview dashboard\n• Notifications to assist you with staying on task\n• Manage transactions with task checklists \nRegister today!  \n 
URL:https://www.smaor.com/event/become-an-expert-with-ziptms-and-all-the-advanced-features-of-zipform-plus/
LOCATION:Online
ATTACH;FMTTYPE=image/jpeg:https://www.smaor.com/wp-content/uploads/2019/11/Ziplogic-Logo.jpg
END:VEVENT
BEGIN:VEVENT
DTSTART;TZID=America/Los_Angeles:20191108T140000
DTEND;TZID=America/Los_Angeles:20191108T150000
DTSTAMP:20260422T014459
CREATED:20191101T162332Z
LAST-MODIFIED:20191101T162332Z
UID:26235-1573221600-1573225200@www.smaor.com
SUMMARY:Tools for Deals of All Kinds: Commercial x Property Management
DESCRIPTION:Tools for Deals of All Kinds: Commercial x Property Management\nOn car.org members find all kinds of features and tools available to help them work and close transactions. Some of those just happen to be designed for Commercial and Property Management transactions. Learn where to find these and how to use them today! \nWe will cover: \n• Property Management integrations\n• Commercial libraries found in zipForm®\n• Education courses and literature available from C.A.R. \nSessions like these give REALTORS® a chance to see the tools they have access to in action. \nIf you cannot attend\, sign up anyway and we will send you a recording. \nRegister today!
URL:https://www.smaor.com/event/tools-for-deals-of-all-kinds-commercial-x-property-management/
LOCATION:Online
END:VEVENT
BEGIN:VEVENT
DTSTART;TZID=America/Los_Angeles:20191112T130000
DTEND;TZID=America/Los_Angeles:20191112T140000
DTSTAMP:20260422T014459
CREATED:20191101T162617Z
LAST-MODIFIED:20191101T162617Z
UID:26238-1573563600-1573567200@www.smaor.com
SUMMARY:Take Your Team to the Next Level with zipForm® Plus Broker/Team Edition
DESCRIPTION:Take your Team to the next level with zipForm® Plus Broker/Team Edition\nzipForm® Plus Broker Edition (and zipForm® Plus Team Edition) allow you to manage all of your transactions\, accounts\, and forms effortlessly in a comprehensive platform. Join us and learn how you can streamline your office workflow. \nWe will cover:\n• Creating Transaction templates\, checklists and clauses\n• Document approval\n• ListFlash™ \nRegister even if you cannot attend because a recording will be emailed to all registrants. \nSign up today!
URL:https://www.smaor.com/event/take-your-team-to-the-next-level-with-zipform-plus-broker-team-edition/
LOCATION:Online
END:VEVENT
BEGIN:VEVENT
DTSTART;TZID=America/Los_Angeles:20191114T110000
DTEND;TZID=America/Los_Angeles:20191114T120000
DTSTAMP:20260422T014459
CREATED:20191101T162929Z
LAST-MODIFIED:20191101T162929Z
UID:26241-1573729200-1573732800@www.smaor.com
SUMMARY:Be Thankful You Can Sign Documents with Digital Signatures Inside zipForm® Plus
DESCRIPTION:Be Thankful You Can Sign Documents with Digital Signatures inside zipForm® Plus\nzipForm® can get that signed NOW. \nHave you tried using zipLogix Digital Ink®? It’s a free member benefit and gives you access to unlimited digital signatures for transaction documents within zipForm®. What about DocuSign®? It’s a powerful online subscription signing solution that integrates with zipForm® Plus. \nIn this session we will cover: \n• Sharing forms like SPQ & TDS\n• Signatures with zipLogix Digital Ink® and DocuSign®\n• Outside forms\n• Q & A – bring your questions! \nIf you cannot attend\, sign up anyway and we will send you a recording. \nWe would like to thank Disclosure Source NHD for sponsoring this webinar. Training sessions like these make it possible for REALTORS® to see their tools and member benefits in action. You can find out more by visiting https://www.disclosuresource.com/order.aspx \nRegister today!
URL:https://www.smaor.com/event/be-thankful-you-can-sign-documents-with-digital-signatures-inside-zipform-plus/
END:VEVENT
BEGIN:VEVENT
DTSTART;TZID=America/Los_Angeles:20191114T120000
DTEND;TZID=America/Los_Angeles:20191114T150000
DTSTAMP:20260422T014459
CREATED:20190820T203914Z
LAST-MODIFIED:20190930T170514Z
UID:26157-1573732800-1573743600@www.smaor.com
SUMMARY:2020 Installation
DESCRIPTION:
URL:https://www.smaor.com/event/2020-installation/
END:VEVENT
BEGIN:VEVENT
DTSTART;TZID=America/Los_Angeles:20191118T093000
DTEND;TZID=America/Los_Angeles:20191118T103000
DTSTAMP:20260422T014459
CREATED:20191101T155250Z
LAST-MODIFIED:20191101T155250Z
UID:26219-1574069400-1574073000@www.smaor.com
SUMMARY:October 2019 Housing Market Update
DESCRIPTION:October 2019 Housing Market Update\nDate: Monday\, November 18th\, 2019\nTime: 9:30 A.M. to 10:30 A.M.  \n\nRegister Here \nThe California housing market has been doing better so far in the second half of 2019.  Will low mortgage rates continue to push sales and price forward in the last quarter of the year? Tune into our next webinar for an update of the market conditions for the month of October and a discussion of what we need to be concerned about for the rest of the year.
URL:https://www.smaor.com/event/october-2019-housing-market-update/
LOCATION:Online
END:VEVENT
BEGIN:VEVENT
DTSTART;TZID=America/Los_Angeles:20191119T100000
DTEND;TZID=America/Los_Angeles:20191119T110000
DTSTAMP:20260422T014459
CREATED:20191101T163210Z
LAST-MODIFIED:20191101T163210Z
UID:26244-1574157600-1574161200@www.smaor.com
SUMMARY:File Sharing Transactions is Safe and Secure with zipCommunity™
DESCRIPTION:File Sharing Transactions is Safe and Secure with zipCommunity™\nHave you ever worried about privacy during a transaction? Join us to learn the many tools inside zipForm® Plus to help you do business with added safety and security for your clients sensitive information. Topics will include:\n• How to log email chains inside zipForm® Plus\n• How to Export and Import whole Transaction files\n• Safe and secure file-sharing with zipCommunity™\n• Encrpyted chat inside zipCommunity™ \nIf you cannot attend\, register anyway and we will send you a recording. \nSign up today!
URL:https://www.smaor.com/event/file-sharing-transactions-is-safe-and-secure-with-zipcommunity/
LOCATION:Online
END:VEVENT
BEGIN:VEVENT
DTSTART;TZID=America/Los_Angeles:20191120T100000
DTEND;TZID=America/Los_Angeles:20191120T110000
DTSTAMP:20260422T014459
CREATED:20191101T163509Z
LAST-MODIFIED:20191101T163509Z
UID:26247-1574244000-1574247600@www.smaor.com
SUMMARY:Putting the Personal Back in Business
DESCRIPTION:Putting the Personal Back in Business\n\n\n\n\nC.A.R. and Ruby are teaming up to talk technology\, client relationships\, and how the state of the real estate industry is impacting its agents. Join Ruby’s Chief Marketing Officer\, Molly Moore\, on Wednesday\, November 20\, 2019 at ten o’clock to learn: \n-How the industry is being disrupted\n-The disconnect between clients and agents\n-What top professionals are doing to not only survive\, but thrive \nSave your seat and register today!
URL:https://www.smaor.com/event/putting-the-personal-back-in-business/
LOCATION:Online
END:VEVENT
BEGIN:VEVENT
DTSTART;TZID=America/Los_Angeles:20191121T130000
DTEND;TZID=America/Los_Angeles:20191121T140000
DTSTAMP:20260422T014459
CREATED:20191101T163729Z
LAST-MODIFIED:20191101T163729Z
UID:26250-1574341200-1574344800@www.smaor.com
SUMMARY:Keep Transactions and Yourself Moving with zipForm® Mobile
DESCRIPTION:Keep Transactions and Yourself Moving with zipForm® Mobile\n\n\n\n\nBe prepared for deals anywhere you go with zipForm® Mobile! Learn the shortcuts that make this tool the must-have while you’re out in the field. This is a member benefit that you can’t be offsite without. Avoid curses and various other forms of doom by registering today to learn: \n• Mobile shortcuts\n• Templates and Checklists\n• Signing on the screen\n• LIVE Q & A – bring your questions! If you cannot attend\, don’t worry! \nRegister to attend anyway we will send you a recording. \nRegister today!
URL:https://www.smaor.com/event/keep-transactions-and-yourself-moving-with-zipform-mobile/
LOCATION:Online
END:VEVENT
BEGIN:VEVENT
DTSTART;VALUE=DATE:20191128
DTEND;VALUE=DATE:20191129
DTSTAMP:20260422T014459
CREATED:20191127T164806Z
LAST-MODIFIED:20191127T164806Z
UID:26304-1574899200-1574985599@www.smaor.com
SUMMARY:Closed Happy Thanksgiving!
DESCRIPTION:
URL:https://www.smaor.com/event/closed-happy-thanksgiving/
LOCATION:Santa Maria Association of Realtors\, 2236 S Broadway Ste E\, Santa Maria\, CA\, 93458
END:VEVENT
BEGIN:VEVENT
DTSTART;VALUE=DATE:20191129
DTEND;VALUE=DATE:20191130
DTSTAMP:20260422T014459
CREATED:20191127T164903Z
LAST-MODIFIED:20191127T164924Z
UID:26308-1574985600-1575071999@www.smaor.com
SUMMARY:Closed Happy Thanksgiving
DESCRIPTION:
URL:https://www.smaor.com/event/closed-happy-thanksgiving-2/
LOCATION:Santa Maria Association of Realtors\, 2236 S Broadway Ste E\, Santa Maria\, CA\, 93458
END:VEVENT
BEGIN:VEVENT
DTSTART;TZID=America/Los_Angeles:20191203T090000
DTEND;TZID=America/Los_Angeles:20191203T100000
DTSTAMP:20260422T014459
CREATED:20191126T001209Z
LAST-MODIFIED:20191128T155233Z
UID:26300-1575363600-1575367200@www.smaor.com
SUMMARY:December MLS Meeting
DESCRIPTION:
URL:https://www.smaor.com/event/december-mls-meeting/
LOCATION:Santa Maria Association of Realtors\, 2236 S Broadway Ste E\, Santa Maria\, CA\, 93458
END:VEVENT
BEGIN:VEVENT
DTSTART;TZID=America/Los_Angeles:20191203T100000
DTEND;TZID=America/Los_Angeles:20191203T110000
DTSTAMP:20260422T014459
CREATED:20191101T164033Z
LAST-MODIFIED:20191101T164100Z
UID:26253-1575367200-1575370800@www.smaor.com
SUMMARY:Start the Upcoming Year Off Right with zipForm® Plus Basics
DESCRIPTION:Start the Upcoming Year Off Right with zipForm® Plus Basics\nLearn the basics about zipForm® Plus and how easy it is to manage your transactions and templates.\nSessions like these give REALTORS® a chance to see the tools they have access to in action. \nWe will cover:\n• The basics of zipForm® Plus\n• Learn to create transactions\n• Learn to create templates \nIf you cannot attend\, sign up anyway and we will send you a recording. \nRegister today! \n 
URL:https://www.smaor.com/event/start-the-upcoming-year-off-right-with-zipform-plus-basics/
LOCATION:Online
END:VEVENT
BEGIN:VEVENT
DTSTART;TZID=America/Los_Angeles:20191204T100000
DTEND;TZID=America/Los_Angeles:20191204T110000
DTSTAMP:20260422T014459
CREATED:20191101T164607Z
LAST-MODIFIED:20191101T164607Z
UID:26256-1575453600-1575457200@www.smaor.com
SUMMARY:Get to Know All the Advanced Features of zipForm® Plus and zipTMS™
DESCRIPTION:Get to Know All the Advanced Features of zipForm® Plus and zipTMS™\nImprove your transaction management with zipTMS™. Schedule tasks like forms due dates\, home inspections and more using zipTMS™ inside zipForm® Plus. \n• Manage all transactions at once with the overview dashboard\n• Notifications to assist you with staying on task\n• Manage transactions with task checklists \nRegister today! \n 
URL:https://www.smaor.com/event/get-to-know-all-the-advanced-features-of-zipform-plus-and-ziptms/
LOCATION:Online
END:VEVENT
BEGIN:VEVENT
DTSTART;TZID=America/Los_Angeles:20191209T140000
DTEND;TZID=America/Los_Angeles:20191209T150000
DTSTAMP:20260422T014459
CREATED:20191101T164921Z
LAST-MODIFIED:20191101T164921Z
UID:26261-1575900000-1575903600@www.smaor.com
SUMMARY:Fill Contracts Out on the Go with zipForm® Mobile
DESCRIPTION:Fill Contracts Out on the Go with zipForm® Mobile\nBe prepared for deals anywhere you go with zipForm® Mobile! Learn the shortcuts that make this tool the must-have while you’re out in the field. This is a member benefit that you can’t be offsite without. Avoid curses and various other forms of doom by registering today to learn: \n• Mobile shortcuts\n• Templates and Checklists\n• Signing on the screen\n• LIVE Q & A – bring your questions! \nIf you cannot attend\, don’t worry! Register to attend anyway we will send you a recording. \nRegister today! \n 
URL:https://www.smaor.com/event/fill-contracts-out-on-the-go-with-zipform-mobile/
LOCATION:Online
END:VEVENT
BEGIN:VEVENT
DTSTART;TZID=America/Los_Angeles:20191210T130000
DTEND;TZID=America/Los_Angeles:20191210T140000
DTSTAMP:20260422T014459
CREATED:20191101T165126Z
LAST-MODIFIED:20191101T165126Z
UID:26264-1575982800-1575986400@www.smaor.com
SUMMARY:Sharing Contracts has Never Been Easier with zipCommunity™
DESCRIPTION:Sharing Contracts has Never Been Easier with zipCommunity™\nHave you ever worried about privacy during a transaction? Join us to learn the many tools inside zipForm® Plus to help you do business with added safety and security for your client’s sensitive information. Topics will include: \n• How to log email chains inside zipForm® Plus\n• How to Export and Import whole Transaction files\n• Safe and secure file-sharing with zipCommunity™\n• Encrypted chat inside zipCommunity™ \nIf you cannot attend\, register anyway and we will send you a recording. \nSign up today! \n 
URL:https://www.smaor.com/event/sharing-contracts-has-never-been-easier-with-zipcommunity/
LOCATION:Online
END:VEVENT
BEGIN:VEVENT
DTSTART;TZID=America/Los_Angeles:20191212T100000
DTEND;TZID=America/Los_Angeles:20191212T120000
DTSTAMP:20260422T014459
CREATED:20191101T190347Z
LAST-MODIFIED:20191101T190347Z
UID:26267-1576144800-1576152000@www.smaor.com
SUMMARY:Tis the Season to Learn to Sign Documents with Digital Signatures
DESCRIPTION:Tis the Season to Learn to Sign Documents with Digital Signatures\nzipForm® can get that signed NOW. \nHave you tried using zipLogix Digital Ink®? It’s a free member benefit and gives you access to unlimited digital signatures for transaction documents within zipForm®. What about DocuSign®? It’s a powerful online subscription signing solution that integrates with zipForm® Plus. \nIn this session we will cover: \n• Sharing forms like SPQ & TDS\n• Signatures with zipLogix Digital Ink® and DocuSign®\n• Outside forms\n• Q & A – bring your questions! \nIf you cannot attend\, sign up anyway and we will send you a recording. \nRegister today!
URL:https://www.smaor.com/event/tis-the-season-to-learn-to-sign-documents-with-digital-signatures/
LOCATION:Online
END:VEVENT
BEGIN:VEVENT
DTSTART;TZID=America/Los_Angeles:20191217T110000
DTEND;TZID=America/Los_Angeles:20191217T180000
DTSTAMP:20260422T014459
CREATED:20191212T161434Z
LAST-MODIFIED:20191216T231448Z
UID:26329-1576580400-1576605600@www.smaor.com
SUMMARY:Bell Ringing Competition Affiliates Vs. Agents
DESCRIPTION:
URL:https://www.smaor.com/event/bell-ringing-competition-affiliates-vs-agents/
ATTACH;FMTTYPE=image/jpeg:https://www.smaor.com/wp-content/uploads/2019/12/Bell-Ringing.jpg
END:VEVENT
BEGIN:VEVENT
DTSTART;VALUE=DATE:20191224
DTEND;VALUE=DATE:20191226
DTSTAMP:20260422T014459
CREATED:20191206T220912Z
LAST-MODIFIED:20191206T220947Z
UID:26316-1577145600-1577318399@www.smaor.com
SUMMARY:Closed for Christmas
DESCRIPTION:
URL:https://www.smaor.com/event/closed-for-christmas/
LOCATION:Santa Maria Association of Realtors\, 2236 S Broadway Ste E\, Santa Maria\, CA\, 93458
ATTACH;FMTTYPE=image/jpeg:https://www.smaor.com/wp-content/uploads/2019/12/Closed-For-Christmas.jpg
END:VEVENT
END:VCALENDAR