BEGIN:VCALENDAR
VERSION:2.0
PRODID:-//Santa Maria Association of Realtors - ECPv6.15.20//NONSGML v1.0//EN
CALSCALE:GREGORIAN
METHOD:PUBLISH
X-ORIGINAL-URL:https://www.smaor.com
X-WR-CALDESC:Events for Santa Maria Association of Realtors
REFRESH-INTERVAL;VALUE=DURATION:PT1H
X-Robots-Tag:noindex
X-PUBLISHED-TTL:PT1H
BEGIN:VTIMEZONE
TZID:UTC
BEGIN:STANDARD
TZOFFSETFROM:+0000
TZOFFSETTO:+0000
TZNAME:UTC
DTSTART:20210101T000000
END:STANDARD
END:VTIMEZONE
BEGIN:VTIMEZONE
TZID:America/Los_Angeles
BEGIN:DAYLIGHT
TZOFFSETFROM:-0800
TZOFFSETTO:-0700
TZNAME:PDT
DTSTART:20220313T100000
END:DAYLIGHT
BEGIN:STANDARD
TZOFFSETFROM:-0700
TZOFFSETTO:-0800
TZNAME:PST
DTSTART:20221106T090000
END:STANDARD
BEGIN:DAYLIGHT
TZOFFSETFROM:-0800
TZOFFSETTO:-0700
TZNAME:PDT
DTSTART:20230312T100000
END:DAYLIGHT
BEGIN:STANDARD
TZOFFSETFROM:-0700
TZOFFSETTO:-0800
TZNAME:PST
DTSTART:20231105T090000
END:STANDARD
BEGIN:DAYLIGHT
TZOFFSETFROM:-0800
TZOFFSETTO:-0700
TZNAME:PDT
DTSTART:20240310T100000
END:DAYLIGHT
BEGIN:STANDARD
TZOFFSETFROM:-0700
TZOFFSETTO:-0800
TZNAME:PST
DTSTART:20241103T090000
END:STANDARD
END:VTIMEZONE
BEGIN:VEVENT
DTSTART;TZID=UTC:20220721T100000
DTEND;TZID=UTC:20220721T110000
DTSTAMP:20260420T042553
CREATED:20220719T204908Z
LAST-MODIFIED:20220719T205439Z
UID:27366-1658397600-1658401200@www.smaor.com
SUMMARY:Take on Rentals with Technology: Navigating the HOT rental market
DESCRIPTION:Take on Rentals with Technology: Navigating the HOT rental market\n \nThere is no denying that every REALTOR® should be working with rentals in some capacity these days. The rental market is hotter than ever\, with prices skyrocketing and demand incredibly high. The L.A. times even deemed finding a place to rent in Los Angeles a “Competitive Sport.” \nSo how can you manage the high volume of applicants for your rentals? And how can you do this in the most streamlined way possible? Better yet\, how can you turn renters into future buyers? \nIn this webinar panelists will discuss: \n\nThe tools and Technology they use to keep their rental business quick and efficient\nHow to protect yourself from Fair Housing Accusations and Reduce Liability when handling sensitive information\nTips to build and expand your network\nHow to turn renters into buyers\n\n[register here] \n 
URL:https://www.smaor.com/event/take-on-rentals-with-technology-navigating-the-hot-rental-market/
END:VEVENT
BEGIN:VEVENT
DTSTART;TZID=UTC:20220726T110000
DTEND;TZID=UTC:20220726T113000
DTSTAMP:20260420T042553
CREATED:20220719T202838Z
LAST-MODIFIED:20220719T203702Z
UID:27360-1658833200-1658835000@www.smaor.com
SUMMARY:Flexmls - Portal Preferences
DESCRIPTION:Coffee Break: Portal Preferences\nPortals allow your contacts the ability to search and keep track of their favorite listings. Portal preferences allow you additional control over your portal by giving you access to a customizable portal invitation\, what statuses your contacts can see in the news feed\, and more! Join us for a class discussing the portal preferences and working with prospects Flexmls. \n*This class will be capped at the first 3000 registrants in order to keep sound and video clear throughout the webinar. \n  \n[register here]
URL:https://www.smaor.com/event/flexmls-portal-preferences/
LOCATION:Online
END:VEVENT
BEGIN:VEVENT
DTSTART;TZID=UTC:20220802T090000
DTEND;TZID=UTC:20220802T100000
DTSTAMP:20260420T042553
CREATED:20220719T210129Z
LAST-MODIFIED:20220719T210129Z
UID:27369-1659430800-1659434400@www.smaor.com
SUMMARY:MLS Meeting - Bob Nelson
DESCRIPTION:MLS Meeting – Guest Speaker\nBob Nelson Santa Barbara County Board Supervisor will be joining us in person at 9AM.\nIf you’d like to join us via zoom please click [here]
URL:https://www.smaor.com/event/mls-meeting-bob-nelson/
LOCATION:Santa Maria Association of Realtors\, 2236 S Broadway Ste E\, Santa Maria\, CA\, 93458
END:VEVENT
BEGIN:VEVENT
DTSTART;TZID=UTC:20220810T090000
DTEND;TZID=UTC:20220810T100000
DTSTAMP:20260420T042553
CREATED:20220719T202001Z
LAST-MODIFIED:20220719T202001Z
UID:27350-1660122000-1660125600@www.smaor.com
SUMMARY:Flexmls Fundamentals: The Full CMA
DESCRIPTION:Flexmls Fundamentals: The Full CMA\nJoin us for a detailed look at creating the Full CMA in Flexmls. Learn the easiest way to start a CMA from any search screen; we’ll look at the process for locating your subject property on a map\, finding nearby comparable listings\, and walk you through the entire process of setting up a Full CMA. *This class will be capped at the first 3000 registrants in order to keep sound and video clear throughout the webinar. \n[register here] \n  \n  \n 
URL:https://www.smaor.com/event/flexmls-fundamentals-the-full-cma/
LOCATION:Online
END:VEVENT
BEGIN:VEVENT
DTSTART;TZID=UTC:20220824T120000
DTEND;TZID=UTC:20220824T123000
DTSTAMP:20260420T042553
CREATED:20220719T202155Z
LAST-MODIFIED:20220719T202304Z
UID:27353-1661342400-1661344200@www.smaor.com
SUMMARY:Run a CMA in 3 Minutes
DESCRIPTION:Learn to Run a CMA in 3 Minutes\nCurious about running a CMA\, but find yourself intimidated by all of the options in Flexmls? Join us and learn how to put together a CMA quickly and efficiently in under three minutes! \n*This class will be capped at the first 3000 registrants in order to keep sound and video clear throughout the webinar. \n[register here] \n 
URL:https://www.smaor.com/event/run-a-cma-in-3-minutes/
LOCATION:Online
END:VEVENT
BEGIN:VEVENT
DTSTART;TZID=UTC:20220901T120000
DTEND;TZID=UTC:20220901T130000
DTSTAMP:20260420T042553
CREATED:20220802T162607Z
LAST-MODIFIED:20220802T162607Z
UID:27377-1662033600-1662037200@www.smaor.com
SUMMARY:Realtor Safety Training
DESCRIPTION:If you’d like to join us via zoom click [here]. Please use passcode: 951228 to join the meeting.
URL:https://www.smaor.com/event/realtor-safety-training/
LOCATION:Santa Maria Association of Realtors\, 2236 S Broadway Ste E\, Santa Maria\, CA\, 93458
END:VEVENT
BEGIN:VEVENT
DTSTART;VALUE=DATE:20220905
DTEND;VALUE=DATE:20220906
DTSTAMP:20260420T042553
CREATED:20220823T185147Z
LAST-MODIFIED:20220823T202527Z
UID:27392-1662336000-1662422399@www.smaor.com
SUMMARY:Labor Day - Office Closed
DESCRIPTION:`
URL:https://www.smaor.com/event/labor-day-office-closed/
END:VEVENT
BEGIN:VEVENT
DTSTART;TZID=UTC:20220907T120000
DTEND;TZID=UTC:20220907T123000
DTSTAMP:20260420T042553
CREATED:20220719T202635Z
LAST-MODIFIED:20220719T202635Z
UID:27357-1662552000-1662553800@www.smaor.com
SUMMARY:Flexmls Fundamentals: Add & Change Listings
DESCRIPTION:Flexmls Fundamentals – Adding and Changing Listings\nJoin us for this class on Adding and Changing listings in Flexmls. We’ll walk through the entire Add Listing process from entering the listing data\, and previewing the listing\, to adding photos and documents. We’ll also cover how to do price and status changes once your listing is active on the MLS. \n*This class will be capped at the first 3000 registrants in order to keep sound and video clear throughout the webinar.
URL:https://www.smaor.com/event/flexmls-fundamentals-add-change-listings/
LOCATION:Online
END:VEVENT
BEGIN:VEVENT
DTSTART;TZID=UTC:20220908T110000
DTEND;TZID=UTC:20220908T130000
DTSTAMP:20260420T042553
CREATED:20220826T222625Z
LAST-MODIFIED:20220826T222625Z
UID:27410-1662634800-1662642000@www.smaor.com
SUMMARY:Understanding the Housing Market
DESCRIPTION:
URL:https://www.smaor.com/event/understanding-the-housing-market/
END:VEVENT
BEGIN:VEVENT
DTSTART;TZID=UTC:20220913T090000
DTEND;TZID=UTC:20220913T100000
DTSTAMP:20260420T042553
CREATED:20220829T174134Z
LAST-MODIFIED:20220829T174134Z
UID:27414-1663059600-1663063200@www.smaor.com
SUMMARY:MLS Meeting - Santa Maria Development Department - Accessory Dwelling Unit
DESCRIPTION:MLS Meeting – Santa Maria Development Department – Accessory Dwelling Unit\nGuest Speaker – Dana Eady – Santa Maria Planning Division Manager\n \nDana is with the Planning Division Manager in the City’s Community Development Department. Dana has worked as a land use planner in local government for the last 16 years (13 years with the County of Santa Barbara and 3 years with the City of Santa Maria). She has experience working on a variety of projects such as retail commercial development\, wineries\, housing projects\, and zoning amendments. In her spare time\, she enjoys spending time with my husband and 6-year-old daughter and doing outdoor activities like hiking\, camping\, and riding horses. \nCity of SM – ADU Guide Handout \nJoining via zoom? Click [here] \nJoin Zoom Meeting\nhttps://carorg.zoom.us/j/98319474146?pwd=WDEwN3dFZWtvU1dxclNjZmhIanFBZz09 \nMeeting ID: 983 1947 4146\nPasscode: 774380\nDial by your location\n+1 669 900 6833 US (San Jose) \n 
URL:https://www.smaor.com/event/mls-meeting-santa-maria-development-department-accessory-dwelling-unit/
LOCATION:Santa Maria Association of Realtors\, 2236 S Broadway Ste E\, Santa Maria\, CA\, 93458
END:VEVENT
BEGIN:VEVENT
DTSTART;TZID=UTC:20220915T120000
DTEND;TZID=UTC:20220915T130000
DTSTAMP:20260420T042553
CREATED:20220831T184652Z
LAST-MODIFIED:20220831T200804Z
UID:27420-1663243200-1663246800@www.smaor.com
SUMMARY:Escrow 101 - Foreclosures & NOD's - Selling Mobile Homes - Selling Properties With Solar
DESCRIPTION:
URL:https://www.smaor.com/event/escrow-101-foreclosures-nods-selling-mobile-homes-selling-properties-with-solar/
LOCATION:Online
END:VEVENT
BEGIN:VEVENT
DTSTART;TZID=UTC:20220928T090000
DTEND;TZID=UTC:20220929T170000
DTSTAMP:20260420T042553
CREATED:20220826T173119Z
LAST-MODIFIED:20220826T173318Z
UID:27404-1664355600-1664470800@www.smaor.com
SUMMARY:Green Designation Course
DESCRIPTION:
URL:https://www.smaor.com/event/green-designation-course/
END:VEVENT
BEGIN:VEVENT
DTSTART;TZID=UTC:20221004T090000
DTEND;TZID=UTC:20221004T100000
DTSTAMP:20260420T042553
CREATED:20221003T221653Z
LAST-MODIFIED:20221003T221653Z
UID:27475-1664874000-1664877600@www.smaor.com
SUMMARY:MLS Meeting - Santa Maria Candidates For District 3 & 4
DESCRIPTION:MLS Meeting – Santa Maria City Council Candidates For Districts 3 & 4.\n  \nDon’t miss out our guest speakers will be 2022 District Candidates:\n3rd District Steven Funkhouser\n4th District Maribel Aguilera-Hernandez\nJoin Zoom Meeting\nhttps://carorg.zoom.us/j/95954021432?pwd=S1d6b0FWU1M4ZWIyeEowaStOb0VJQT09 \nMeeting ID: 959 5402 1432\nPasscode: 593151\nOne tap mobile\n+16694449171\,\,95954021432#\,\,\,\,*593151# US\n+16699006833\,\,95954021432#\,\,\,\,*593151# US (San Jose) \n 
URL:https://www.smaor.com/event/mls-meeting-santa-maria-candidates-for-district-3-4/
LOCATION:Santa Maria Association of Realtors\, 2236 S Broadway Ste E\, Santa Maria\, CA\, 93458
END:VEVENT
BEGIN:VEVENT
DTSTART;TZID=UTC:20221010T080000
DTEND;TZID=UTC:20221010T170000
DTSTAMP:20260420T042553
CREATED:20221006T210314Z
LAST-MODIFIED:20221006T210314Z
UID:27478-1665388800-1665421200@www.smaor.com
SUMMARY:Office Closed - Columbus Day
DESCRIPTION:
URL:https://www.smaor.com/event/office-closed-columbus-day/
END:VEVENT
BEGIN:VEVENT
DTSTART;TZID=UTC:20221013T120000
DTEND;TZID=UTC:20221013T130000
DTSTAMP:20260420T042553
CREATED:20220929T210830Z
LAST-MODIFIED:20220929T210839Z
UID:27452-1665662400-1665666000@www.smaor.com
SUMMARY:1031 Exchange
DESCRIPTION:
URL:https://www.smaor.com/event/1031-exchange-2/
LOCATION:Santa Maria Association of Realtors\, 2236 S Broadway Ste E\, Santa Maria\, CA\, 93458
END:VEVENT
BEGIN:VEVENT
DTSTART;TZID=UTC:20221101T090000
DTEND;TZID=UTC:20221101T100000
DTSTAMP:20260420T042553
CREATED:20221028T212616Z
LAST-MODIFIED:20221031T224628Z
UID:27510-1667293200-1667296800@www.smaor.com
SUMMARY:MLS Meeting - ADU Insurance Coverage
DESCRIPTION:MLS Meeting – ADU Insurance Coverage\nGuest Speaker: Erica Morrison\nGetting insurance coverage for grannie units & additional dwelling units.\n  \nJoin Zoom Meeting\nhttps://carorg.zoom.us/j/98232385435?pwd=K0NlMTludG5UYlVpWEhRZHZPY2lpQT09 \nMeeting ID: 982 3238 5435\nPasscode: 680760\nDial by your location\n+1 669 900 6833 US (San Jose) \n 
URL:https://www.smaor.com/event/mls-meeting-adu-insurance-coverage/
END:VEVENT
BEGIN:VEVENT
DTSTART;TZID=UTC:20221110T120000
DTEND;TZID=UTC:20221110T130000
DTSTAMP:20260420T042553
CREATED:20221101T180445Z
LAST-MODIFIED:20221107T222153Z
UID:27529-1668081600-1668085200@www.smaor.com
SUMMARY:Back to Basics - Fidelity National Title
DESCRIPTION:
URL:https://www.smaor.com/event/back-to-basics-fidelity-national-title/
END:VEVENT
BEGIN:VEVENT
DTSTART;TZID=UTC:20221115T113000
DTEND;TZID=UTC:20221115T130000
DTSTAMP:20260420T042553
CREATED:20221020T223536Z
LAST-MODIFIED:20221028T210009Z
UID:27485-1668511800-1668517200@www.smaor.com
SUMMARY:2023 Installation - Board of Directors
DESCRIPTION:
URL:https://www.smaor.com/event/installation-of-2023-board-of-directors/
END:VEVENT
BEGIN:VEVENT
DTSTART;TZID=UTC:20221124T080000
DTEND;TZID=UTC:20221126T170000
DTSTAMP:20260420T042553
CREATED:20221123T234652Z
LAST-MODIFIED:20221123T234652Z
UID:27556-1669276800-1669482000@www.smaor.com
SUMMARY:Happy Thanksgiving - Office Closed
DESCRIPTION:
URL:https://www.smaor.com/event/happy-thanksgiving-office-closed/
END:VEVENT
BEGIN:VEVENT
DTSTART;TZID=UTC:20221206T090000
DTEND;TZID=UTC:20221206T100000
DTSTAMP:20260420T042553
CREATED:20221123T234429Z
LAST-MODIFIED:20221130T182844Z
UID:27550-1670317200-1670320800@www.smaor.com
SUMMARY:December MLS Meeting - In-person Only
DESCRIPTION:
URL:https://www.smaor.com/event/december-mls-meeting-in-person-only/
END:VEVENT
BEGIN:VEVENT
DTSTART;TZID=UTC:20221215T120000
DTEND;TZID=UTC:20221215T130000
DTSTAMP:20260420T042553
CREATED:20221123T234559Z
LAST-MODIFIED:20221123T234559Z
UID:27553-1671105600-1671109200@www.smaor.com
SUMMARY:Lunch & Learn - Cybersecurity
DESCRIPTION:
URL:https://www.smaor.com/event/lunch-learn-cybersecurity/
LOCATION:Santa Maria Association of Realtors\, 2236 S Broadway Ste E\, Santa Maria\, CA\, 93458
END:VEVENT
BEGIN:VEVENT
DTSTART;TZID=America/Los_Angeles:20230113T110000
DTEND;TZID=America/Los_Angeles:20230113T130000
DTSTAMP:20260420T042553
CREATED:20221220T223548Z
LAST-MODIFIED:20221227T222459Z
UID:27587-1673607600-1673614800@www.smaor.com
SUMMARY:Business Planning Class
DESCRIPTION:
URL:https://www.smaor.com/event/business-planning-class/
LOCATION:Santa Maria Association of Realtors\, 2236 S Broadway Ste E\, Santa Maria\, CA\, 93458
END:VEVENT
BEGIN:VEVENT
DTSTART;TZID=America/Los_Angeles:20230119T130000
DTEND;TZID=America/Los_Angeles:20230119T140000
DTSTAMP:20260420T042553
CREATED:20221213T181818Z
LAST-MODIFIED:20221230T185704Z
UID:27580-1674133200-1674136800@www.smaor.com
SUMMARY:Renovation Seminar
DESCRIPTION:
URL:https://www.smaor.com/event/renovation-seminar/
END:VEVENT
BEGIN:VEVENT
DTSTART;TZID=America/Los_Angeles:20230209T130000
DTEND;TZID=America/Los_Angeles:20230209T140000
DTSTAMP:20260420T042553
CREATED:20230203T182830Z
LAST-MODIFIED:20230203T182830Z
UID:27675-1675947600-1675951200@www.smaor.com
SUMMARY:Creative Techniques Escrow Class & Protecting Your Transactions
DESCRIPTION:
URL:https://www.smaor.com/event/creative-techniques-escrow-class-protecting-your-transactions/
LOCATION:Santa Maria Association of Realtors\, 2236 S Broadway Ste E\, Santa Maria\, CA\, 93458
END:VEVENT
BEGIN:VEVENT
DTSTART;TZID=America/Los_Angeles:20230214T090000
DTEND;TZID=America/Los_Angeles:20230214T100000
DTSTAMP:20260420T042553
CREATED:20221220T223642Z
LAST-MODIFIED:20230203T234826Z
UID:27585-1676365200-1676368800@www.smaor.com
SUMMARY:MLS Meeting - Neil Gowing - S.B. County Sheriffs Deputy Association
DESCRIPTION:February MLS Meeting – Neil Gowing\, President of the Santa Barbara County Deputy Sheriffs’ Association\n \nIn Person on February 14th\, 2023 at 9AM
URL:https://www.smaor.com/event/mls-meeting-neil-gowing-s-b-county-sheriffs-deputy-association/
LOCATION:Santa Maria Association of Realtors\, 2236 S Broadway Ste E\, Santa Maria\, CA\, 93458
END:VEVENT
BEGIN:VEVENT
DTSTART;TZID=America/Los_Angeles:20230214T110000
DTEND;TZID=America/Los_Angeles:20230214T120000
DTSTAMP:20260420T042553
CREATED:20230213T224133Z
LAST-MODIFIED:20230213T224133Z
UID:27688-1676372400-1676376000@www.smaor.com
SUMMARY:Sign Documents Electronically with Digital Signatures inside Lone Wolf Transactions (zipForm Edition)
DESCRIPTION:  \nzipForm® can get that signed NOW. \nHave you tried using zipLogix Digital Ink®? It’s a free member benefit and gives you access to unlimited digital signatures for transaction documents within Lone Wolf Transactions (zipForm Edition). What about DocuSign®? It’s a powerful online subscription signing solution that integrates with Lone Wolf Transactions (zipForm Edition). \nIn this session we will cover: \n• Sharing forms like SPQ & TDS\n• Signatures with zipLogix Digital Ink® and DocuSign®\n• Outside forms\n• Q & A – bring your questions! \nIf you cannot attend\, sign up anyway and we will send you a recording. \nRegister today! \nWe would like to thank Fidelity National Home Warranty for sponsoring this webinar. Training sessions like these make it possible for REALTORS® to see their tools and member benefits in action. You can find out more by visiting https://www.homewarranty.com/
URL:https://www.smaor.com/event/sign-documents-electronically-with-digital-signatures-inside-lone-wolf-transactions-zipform-edition-3/
LOCATION:Online
END:VEVENT
BEGIN:VEVENT
DTSTART;TZID=America/Los_Angeles:20230214T133000
DTEND;TZID=America/Los_Angeles:20230214T143000
DTSTAMP:20260420T042553
CREATED:20230213T224226Z
LAST-MODIFIED:20230213T224314Z
UID:27691-1676381400-1676385000@www.smaor.com
SUMMARY:Legal Live: RPA Bloopers
DESCRIPTION:RPA Bloopers. You think you know how to fill out the RPA and related forms\, but do you really? After all\, we all make mistakes sometimes. And what about other agents with whom you work? Do they really know what they’re doing? C.A.R. legal hotline attorney Olivia Van will go over the most common RPA completion errors that she and other hotline attorneys hear about\, and the consequences that result. Assistant General Counsel Neil Kline (oops) Kalin will moderate. Join them on Tuesday February 14\, at 1:30 pm.
URL:https://www.smaor.com/event/legal-live-rpa-bloopers/
END:VEVENT
BEGIN:VEVENT
DTSTART;TZID=America/Los_Angeles:20230216T130000
DTEND;TZID=America/Los_Angeles:20230216T140000
DTSTAMP:20260420T042553
CREATED:20230213T223105Z
LAST-MODIFIED:20230213T223219Z
UID:27683-1676552400-1676556000@www.smaor.com
SUMMARY:Lunch and Learn - First American Home Warranty
DESCRIPTION:
URL:https://www.smaor.com/event/27683/
END:VEVENT
BEGIN:VEVENT
DTSTART;VALUE=DATE:20230220
DTEND;VALUE=DATE:20230221
DTSTAMP:20260420T042553
CREATED:20230203T235753Z
LAST-MODIFIED:20230203T235753Z
UID:27679-1676851200-1676937599@www.smaor.com
SUMMARY:Office Closed - Presidents Day
DESCRIPTION:\
URL:https://www.smaor.com/event/office-closed-presidents-day/
END:VEVENT
BEGIN:VEVENT
DTSTART;TZID=America/Los_Angeles:20230221T100000
DTEND;TZID=America/Los_Angeles:20230221T110000
DTSTAMP:20260420T042553
CREATED:20230217T223216Z
LAST-MODIFIED:20230217T223216Z
UID:27701-1676973600-1676977200@www.smaor.com
SUMMARY:3 Strategies to Win More Listings in a Changing Market
DESCRIPTION:  \nGain valuable insights and practical tips on how to adapt to the ever-evolving real estate market. Attendees will learn about the latest trends and technologies that can help them stand out in a crowded marketplace and will be equipped with the knowledge and skills needed to successfully win more listings and grow their businesses. \nWhether you’re a seasoned pro or new to the industry\, this webinar is a must-attend for anyone looking to stay ahead of the curve and win more listings in today’s competitive market. \n[Register Here]
URL:https://www.smaor.com/event/3-strategies-to-win-more-listings-in-a-changing-market/
LOCATION:Online
END:VEVENT
END:VCALENDAR