BEGIN:VCALENDAR
VERSION:2.0
PRODID:-//Santa Maria Association of Realtors - ECPv6.15.20//NONSGML v1.0//EN
CALSCALE:GREGORIAN
METHOD:PUBLISH
X-ORIGINAL-URL:https://www.smaor.com
X-WR-CALDESC:Events for Santa Maria Association of Realtors
REFRESH-INTERVAL;VALUE=DURATION:PT1H
X-Robots-Tag:noindex
X-PUBLISHED-TTL:PT1H
BEGIN:VTIMEZONE
TZID:America/Los_Angeles
BEGIN:DAYLIGHT
TZOFFSETFROM:-0800
TZOFFSETTO:-0700
TZNAME:PDT
DTSTART:20200308T100000
END:DAYLIGHT
BEGIN:STANDARD
TZOFFSETFROM:-0700
TZOFFSETTO:-0800
TZNAME:PST
DTSTART:20201101T090000
END:STANDARD
BEGIN:DAYLIGHT
TZOFFSETFROM:-0800
TZOFFSETTO:-0700
TZNAME:PDT
DTSTART:20210314T100000
END:DAYLIGHT
BEGIN:STANDARD
TZOFFSETFROM:-0700
TZOFFSETTO:-0800
TZNAME:PST
DTSTART:20211107T090000
END:STANDARD
BEGIN:DAYLIGHT
TZOFFSETFROM:-0800
TZOFFSETTO:-0700
TZNAME:PDT
DTSTART:20220313T100000
END:DAYLIGHT
BEGIN:STANDARD
TZOFFSETFROM:-0700
TZOFFSETTO:-0800
TZNAME:PST
DTSTART:20221106T090000
END:STANDARD
BEGIN:DAYLIGHT
TZOFFSETFROM:-0800
TZOFFSETTO:-0700
TZNAME:PDT
DTSTART:20230312T100000
END:DAYLIGHT
BEGIN:STANDARD
TZOFFSETFROM:-0700
TZOFFSETTO:-0800
TZNAME:PST
DTSTART:20231105T090000
END:STANDARD
END:VTIMEZONE
BEGIN:VTIMEZONE
TZID:UTC
BEGIN:STANDARD
TZOFFSETFROM:+0000
TZOFFSETTO:+0000
TZNAME:UTC
DTSTART:20210101T000000
END:STANDARD
END:VTIMEZONE
BEGIN:VEVENT
DTSTART;TZID=America/Los_Angeles:20210317T140000
DTEND;TZID=America/Los_Angeles:20210317T150000
DTSTAMP:20260421T015943
CREATED:20210222T195718Z
LAST-MODIFIED:20210222T195718Z
UID:26976-1615989600-1615993200@www.smaor.com
SUMMARY:Glide for Disclosures
DESCRIPTION:Glide for Disclosures \nGlide for Disclosures. Learn the Basics of the new C.A.R. member benefit offering for managing your transactions and getting your disclosure filled out. In this webinar\, we will cover the following features and topics. \n• Buyer-side disclosures (PEAD\, BIE\, AVID)\n• Listing-side disclosures (PEAD\, TDS / SPQ)\n• Local benefit includes local form library\, MLS import\, PEAD integration\n• Pro + Brokerage > advanced features\n• Buyer-side disclosures\n• Revising / updating disclosures \nIf you cannot attend\, sign up anyway and we will send you a recording. \n[Register today!] \nThere are several webinars scheduled for this training\, be sure to select the date and time that best fits your schedule!
URL:https://www.smaor.com/event/glide-for-disclosures/
LOCATION:Online
END:VEVENT
BEGIN:VEVENT
DTSTART;TZID=America/Los_Angeles:20210401T100000
DTEND;TZID=America/Los_Angeles:20210401T110000
DTSTAMP:20260421T015943
CREATED:20210326T211647Z
LAST-MODIFIED:20210326T211647Z
UID:27003-1617271200-1617274800@www.smaor.com
SUMMARY:Learn All the Advanced Features of Lone Wolf Transactions (zipForm Edition)
DESCRIPTION:Learn All the Advanced Features of Lone Wolf Transactions (zipForm Edition)\n \nLearn how to: \n\nSchedule tasks like forms due dates\, home inspections and more\nManage all transactions at once with the overview dashboard\nCreate notifications to assist you with staying on task\nManage transactions with task checklists\n\nRegister Here
URL:https://www.smaor.com/event/learn-all-the-advanced-features-of-lone-wolf-transactions-zipform-edition/
END:VEVENT
BEGIN:VEVENT
DTSTART;TZID=America/Los_Angeles:20210406T090000
DTEND;TZID=America/Los_Angeles:20210406T100000
DTSTAMP:20260421T015943
CREATED:20210326T213720Z
LAST-MODIFIED:20210326T213720Z
UID:27007-1617699600-1617703200@www.smaor.com
SUMMARY:MLS Meeting - Brian Polinski
DESCRIPTION:MLS Meeting – Brian Polinski\n  \n  \nApr 6\, 2021 09:00 AM Pacific Time (US and Canada) \nJoin Zoom Meeting\nhttps://carorg.zoom.us/j/91710571519?pwd=K254STNvMzhlR25nbVVHT2xoaC9wZz09 \nMeeting ID: 917 1057 1519\nPasscode: 968093\nDial by your location\n+1 669 900 6833 US (San Jose) \n 
URL:https://www.smaor.com/event/mls-meeting-brian-polinski/
END:VEVENT
BEGIN:VEVENT
DTSTART;TZID=America/Los_Angeles:20210407T100000
DTEND;TZID=America/Los_Angeles:20210407T110000
DTSTAMP:20260421T015943
CREATED:20210311T171207Z
LAST-MODIFIED:20210311T171207Z
UID:26992-1617789600-1617793200@www.smaor.com
SUMMARY:Staying Out of Court
DESCRIPTION:Back Again By Popular Demand!
URL:https://www.smaor.com/event/staying-out-of-court/
LOCATION:Online
END:VEVENT
BEGIN:VEVENT
DTSTART;TZID=America/Los_Angeles:20210407T130000
DTEND;TZID=America/Los_Angeles:20210407T140000
DTSTAMP:20260421T015943
CREATED:20210322T225834Z
LAST-MODIFIED:20210322T225834Z
UID:26998-1617800400-1617804000@www.smaor.com
SUMMARY:The Fight For Fair Housing
DESCRIPTION:
URL:https://www.smaor.com/event/the-fight-for-fair-housing/
END:VEVENT
BEGIN:VEVENT
DTSTART;TZID=America/Los_Angeles:20210408T100000
DTEND;TZID=America/Los_Angeles:20210408T110000
DTSTAMP:20260421T015943
CREATED:20210405T190421Z
LAST-MODIFIED:20210405T190421Z
UID:27017-1617876000-1617879600@www.smaor.com
SUMMARY:How Can Two People with Identical Incomes Get Two Very Different Tax Refunds?
DESCRIPTION:How Can Two People with Identical Incomes Get Two Very Different Tax Refunds?\nAre you sure you’re paying as little in taxes as legally possible?\nRegister for this free webinar to learn the specific questions you need to ask to save money. \nJoin a former IRS tax attorney to learn: \n\nWhy most self-employed people “donate” an extra $10\,000 to the IRS and how to make sure you get every deduction you are legally entitled to\nHow to legally pay for your kid’s hobbies\, sports\, video games\, and even their college education–through your business–tax free!\nThe IRS approved “Healthcare Refund” that you have never heard about even though it has been in the tax code for 60+ years! This could be the easiest money you can find with average savings of almost $6\,000/year for those that qualify\n\nAnd many other legal ways to squeeze massive amounts of money out of your tax return! \nApril 8th\, 2021 at 10AM. \nRegister HERE
URL:https://www.smaor.com/event/how-can-two-people-with-identical-incomes-get-two-very-different-tax-refunds/
LOCATION:Online
END:VEVENT
BEGIN:VEVENT
DTSTART;TZID=America/Los_Angeles:20210420T120000
DTEND;TZID=America/Los_Angeles:20210420T130000
DTSTAMP:20260421T015943
CREATED:20210128T000339Z
LAST-MODIFIED:20210128T000339Z
UID:26938-1618920000-1618923600@www.smaor.com
SUMMARY:Tech Tuesday -
DESCRIPTION:Understanding Your Market\nApril 20\, 12:00 – 1 PM\n​What to get a better understanding of your market? Join this class and learn how to quickly compare listings from any search results page\, run custom hot sheets\, and use the Market Summary report.\n[Register Here]
URL:https://www.smaor.com/event/tech-tuesday/
LOCATION:Online
END:VEVENT
BEGIN:VEVENT
DTSTART;TZID=America/Los_Angeles:20210429T170000
DTEND;TZID=America/Los_Angeles:20210429T190000
DTSTAMP:20260421T015943
CREATED:20210405T190822Z
LAST-MODIFIED:20210405T190822Z
UID:27020-1619715600-1619722800@www.smaor.com
SUMMARY:WCR - Virtual Super Hero Bingo
DESCRIPTION:
URL:https://www.smaor.com/event/wcr-virtual-super-hero-bingo/
LOCATION:Online
END:VEVENT
BEGIN:VEVENT
DTSTART;TZID=America/Los_Angeles:20210504T090000
DTEND;TZID=America/Los_Angeles:20210504T100000
DTSTAMP:20260421T015943
CREATED:20210503T170036Z
LAST-MODIFIED:20210503T170036Z
UID:27038-1620118800-1620122400@www.smaor.com
SUMMARY:MLS Marketing Meeting
DESCRIPTION:May MLS Meeting Guest Speaker\nCity of Santa Maria\, Director of Community Development\nChuen Ng\n \n  \nJoin Zoom Meeting\nhttps://carorg.zoom.us/j/93210551383?pwd=clpON1RaVU92dlVTd1lMejhZV1hwdz09 \nMeeting ID: 932 1055 1383\nPasscode: 099794\nOne tap mobile \n+16699006833\,\,93210551383#\,\,\,\,*099794# US (San Jose)\nDial by your location\n+1 669 900 6833 US (San Jose)\nMeeting ID: 932 1055 1383\nPasscode: 099794\nFind your local number: https://carorg.zoom.us/u/a8eGO7LN3 \n 
URL:https://www.smaor.com/event/mls-marketing-meeting/
LOCATION:Online
END:VEVENT
BEGIN:VEVENT
DTSTART;TZID=America/Los_Angeles:20210601T090000
DTEND;TZID=America/Los_Angeles:20210601T100000
DTSTAMP:20260421T015943
CREATED:20210517T231317Z
LAST-MODIFIED:20210518T012503Z
UID:27045-1622538000-1622541600@www.smaor.com
SUMMARY:June MLS Meeting - 1031 Exchange Update
DESCRIPTION:June MLS Meeting – 1031 Exchange with Greg Burns\n \nGreg Burns\, Senior Vice President\, and Southern California native\, has assisted thousands of clients and tax advisors by providing proven and cutting-edge 1031 Exchange solutions. With over twenty years of experience\, Greg is an expert in the 1031 Exchange rules and regulations of Delayed\, Simultaneous\, Reverse\, and Improvement Exchanges and provides nationwide services to his clients through the national IPX1031 network. In Southern and Central California\, Greg covers Los Angeles\, San Bernardino\, Inyo\, Mono\, Riverside\, Kern\, SLO\, Santa Barbara\, and Ventura Counties. \nTo join the meeting please click [here].
URL:https://www.smaor.com/event/june-mls-meeting-1031-exchange-update/
LOCATION:Online
END:VEVENT
BEGIN:VEVENT
DTSTART;TZID=America/Los_Angeles:20210709T090000
DTEND;TZID=America/Los_Angeles:20210709T100000
DTSTAMP:20260421T015943
CREATED:20210705T174131Z
LAST-MODIFIED:20210705T174257Z
UID:27059-1625821200-1625824800@www.smaor.com
SUMMARY:July MLS Meeting
DESCRIPTION:CAR Legal Update with Matt Bunch.\n  \nJoin us at 9AM. \nJoin Zoom Meeting\nhttps://carorg.zoom.us/j/95681994520?pwd=Wjk5bk1FR3QzNkRxU3Z2a3MySEVVdz09 \nMeeting ID: 956 8199 4520\nPasscode: 108268\nDial by your location\n+1 669 900 6833 US (San Jose) \n  \n 
URL:https://www.smaor.com/event/july-mls-meeting/
LOCATION:Online
END:VEVENT
BEGIN:VEVENT
DTSTART;TZID=America/Los_Angeles:20210819T120000
DTEND;TZID=America/Los_Angeles:20210819T130000
DTSTAMP:20260421T015943
CREATED:20210816T184139Z
LAST-MODIFIED:20210816T184139Z
UID:27072-1629374400-1629378000@www.smaor.com
SUMMARY:Lunch & Learn - Wire and Cyber Fraud
DESCRIPTION:  \nRegister today\, click here!
URL:https://www.smaor.com/event/lunch-learn-wire-and-cyber-fraud/
LOCATION:Online
END:VEVENT
BEGIN:VEVENT
DTSTART;TZID=America/Los_Angeles:20210901T130000
DTEND;TZID=America/Los_Angeles:20210901T170000
DTSTAMP:20260421T015943
CREATED:20210824T185005Z
LAST-MODIFIED:20210824T185005Z
UID:27080-1630501200-1630515600@www.smaor.com
SUMMARY:RPA Training Sep. 1st
DESCRIPTION:Register Here!
URL:https://www.smaor.com/event/rpa-training-sep-1st/
LOCATION:Online
END:VEVENT
BEGIN:VEVENT
DTSTART;TZID=America/Los_Angeles:20210907T090000
DTEND;TZID=America/Los_Angeles:20210907T100000
DTSTAMP:20260421T015943
CREATED:20210827T182451Z
LAST-MODIFIED:20210827T182451Z
UID:27088-1631005200-1631008800@www.smaor.com
SUMMARY:MLS Meeting
DESCRIPTION:September MLS Meeting – 9AM\nJoin Zoom Meeting\nhttps://carorg.zoom.us/j/98570340190 \nMeeting ID: 985 7034 0190\nOne tap mobile \n+1 669 900 6833 US (San Jose) \n 
URL:https://www.smaor.com/event/mls-meeting-3/
LOCATION:Online
END:VEVENT
BEGIN:VEVENT
DTSTART;TZID=America/Los_Angeles:20210908T130000
DTEND;TZID=America/Los_Angeles:20210908T150000
DTSTAMP:20260421T015943
CREATED:20210827T190003Z
LAST-MODIFIED:20210827T190003Z
UID:27091-1631106000-1631113200@www.smaor.com
SUMMARY:Gov Hutchinson Legal Update
DESCRIPTION:
URL:https://www.smaor.com/event/gov-hutchinson-legal-update/
LOCATION:Online
END:VEVENT
BEGIN:VEVENT
DTSTART;TZID=America/Los_Angeles:20211028T110000
DTEND;TZID=America/Los_Angeles:20211028T130000
DTSTAMP:20260421T015943
CREATED:20211022T191733Z
LAST-MODIFIED:20211022T191733Z
UID:27106-1635418800-1635426000@www.smaor.com
SUMMARY:Selling HUD Homes
DESCRIPTION:Selling HUD Homes\nThursday October 28th\, 2021\n11:00 A.M. – 1:00 P.M. \nFree For Agents\, Online Zoom Event\, Everything you need to know \nhttps://hudagentseminar3.eventbrite.com/
URL:https://www.smaor.com/event/selling-hud-homes/
END:VEVENT
BEGIN:VEVENT
DTSTART;TZID=America/Los_Angeles:20211109T090000
DTEND;TZID=America/Los_Angeles:20211109T130000
DTSTAMP:20260421T015943
CREATED:20210824T185508Z
LAST-MODIFIED:20210824T185508Z
UID:27085-1636448400-1636462800@www.smaor.com
SUMMARY:RPA Training Nov. 9th
DESCRIPTION:Register here!!
URL:https://www.smaor.com/event/rpa-training-nov-9th/
LOCATION:Online
END:VEVENT
BEGIN:VEVENT
DTSTART;TZID=America/Los_Angeles:20211118T130000
DTEND;TZID=America/Los_Angeles:20211118T140000
DTSTAMP:20260421T015943
CREATED:20211104T224123Z
LAST-MODIFIED:20211110T231429Z
UID:27110-1637240400-1637244000@www.smaor.com
SUMMARY:Installation 2022
DESCRIPTION:Register HERE\n 
URL:https://www.smaor.com/event/installation-2022/
LOCATION:Online
END:VEVENT
BEGIN:VEVENT
DTSTART;TZID=America/Los_Angeles:20211202T090000
DTEND;TZID=America/Los_Angeles:20211202T110000
DTSTAMP:20260421T015943
CREATED:20211022T191355Z
LAST-MODIFIED:20211022T191355Z
UID:27103-1638435600-1638442800@www.smaor.com
SUMMARY:Staying Out of Court - Robert Brand
DESCRIPTION:Staying out of Court – Robert Brand \n  \nRegister in advance for this webinar: \nhttps://carorg.zoom.us/webinar/register/WN_GraBLouATfCpkUH2wbLiTw
URL:https://www.smaor.com/event/staying-out-of-court-robert-brand/
LOCATION:Online
END:VEVENT
BEGIN:VEVENT
DTSTART;TZID=America/Los_Angeles:20220104T090000
DTEND;TZID=America/Los_Angeles:20220104T100000
DTSTAMP:20260421T015943
CREATED:20211217T212649Z
LAST-MODIFIED:20211217T221613Z
UID:27123-1641286800-1641290400@www.smaor.com
SUMMARY:January MLS Meeting - SB63 Explanation Q&A
DESCRIPTION:January MLS Meeting – SB63 Explanation Q&A\nGuest Speaker Brooke Lewis with Frist American Title Co.\n \nBrooke Lewis is the California Vice President of Sales for First American/JCP Disclosures and just celebrated her 15th year with First American NHD.\nBrooke spent the first half of her career at First American as a sales rep\, working closely with agents\, and now supports 30 sales reps across the state as VP. She takes pride in using her experience as a rep to have a true understanding of what the agent community needs in regards to liability protection and a clear understanding of the NHD requirements.\nJoin Zoom Meeting\nhttps://carorg.zoom.us/j/95349606541?pwd=Ykhtb3liR3JyN2FxZW1vN2lPWjh5Zz09 \nMeeting ID: 953 4960 6541\nPasscode: 920804\nDial by your location\n+1 669 900 6833 US (San Jose)\nMeeting ID: 953 4960 6541\nPasscode: 920804
URL:https://www.smaor.com/event/january-mls-meeting-sb63-explanation-qa/
LOCATION:Online
END:VEVENT
BEGIN:VEVENT
DTSTART;VALUE=DATE:20220117
DTEND;VALUE=DATE:20220118
DTSTAMP:20260421T015943
CREATED:20220106T231216Z
LAST-MODIFIED:20220106T231216Z
UID:27151-1642377600-1642463999@www.smaor.com
SUMMARY:Office Closed - MLK Jr.
DESCRIPTION:
URL:https://www.smaor.com/event/office-closed-mlk-jr/
END:VEVENT
BEGIN:VEVENT
DTSTART;TZID=America/Los_Angeles:20220125T100000
DTEND;TZID=America/Los_Angeles:20220125T110000
DTSTAMP:20260421T015943
CREATED:20220121T223913Z
LAST-MODIFIED:20220121T223913Z
UID:27161-1643104800-1643108400@www.smaor.com
SUMMARY:The Future of Rentals from A to (Generation) Z
DESCRIPTION:Generation Z is becoming the most prevalent consumer in the real estate market today. However\, they don’t believe that buying a home is feasible or viable\, especially in the hyper-competitive California market. What should the strategy be to reach them (support them in their rental search) and educate them on the real estate market? \nHere are some fast facts about Generation Z that you may not know about\, according to a recent survey from RentCafe: \n● 36% of Gen Z chose Instagram as their top social media channel\, followed by the 17% that prefer Facebook.\n● 62% of the respondents considered technology as being extremely and very important. As a matter of fact\, technologically advanced features weigh more in choosing a rental than having extra space\, such as an extra bedroom.\n● The most important amenity a Gen Z-er looks for in an apartment community is high-speed internet (27%). \nIn this exclusive new webinar from RentSpree\, we will cover how to effectively reach Millennials and Generation Z throughout their rental journey. We’ll also interview a Generation Z renter so you can better understand what this demographic is looking for! Some of the topics we’ll discuss include: \n● Strategies for marketing rentals to Millenials/Generation Z\n● Tools that enhance the renter experience from listing to lease\n● How to personalize the rental journey for all applicants \nAfter this webinar\, you’ll walk away with a clear understanding of how to approach this rapidly growing demographic and transform your rental business. You can then deploy these strategies to illuminate a path to homeownership for your clients. \n**Unable to attend the webinar? Not to worry\, register anyway to receive a copy of the recording!** \nRentSpree\, a C.A.R. Business Product\, is pioneering a new rental process that empowers all renters\, landlords\, and agents to interact the right way. \nRegister click [here].
URL:https://www.smaor.com/event/the-future-of-rentals-from-a-to-generation-z/
LOCATION:Online
END:VEVENT
BEGIN:VEVENT
DTSTART;TZID=America/Los_Angeles:20220208T090000
DTEND;TZID=America/Los_Angeles:20220208T100000
DTSTAMP:20260421T015943
CREATED:20211221T184844Z
LAST-MODIFIED:20211221T185044Z
UID:27131-1644310800-1644314400@www.smaor.com
SUMMARY:February MLS Meeting - CAR Economist Jordan Levine
DESCRIPTION:February MLS Meeting – Guest Speaker Jordan Levine C.A.R. Chief Economist\n \nJordan Levine is the Vice President & Chief Economist at the California Association of REALTORS\n(C.A.R.)\, a statewide trade organization of real estate professionals with more than 200\,000 members.\nJordan is responsible for C.A.R.’s housing market and economic research as well as the policy analysis\nfor C.A.R.’s legislative and governmental affairs efforts. He has a passion for homeownership\, is actively\ninvolved in the company’s diversity\, equity\, and inclusion initiatives\, and regularly represents C.A.R. to\nits members\, the real estate industry\, policymakers\, and in the local and national media.\nJordan has a bachelor’s degree in economics from the University of California\, Santa Barbara and a\nMaster’s degree with Merit in International Economics from the University of Sussex. Prior to joining\nC.A.R.\, Jordan worked in consulting as an economist and director of economic research where he\noversaw all research and economic analysis on California’s economy and housing market\, and regularly\nspoke to trade groups\, public officials\, businesses\, and the media.\nJoin us at 9AM click here.
URL:https://www.smaor.com/event/february-mls-meeting-car-economist-jordan-levine/
LOCATION:Online
END:VEVENT
BEGIN:VEVENT
DTSTART;TZID=America/Los_Angeles:20220217T130000
DTEND;TZID=America/Los_Angeles:20220217T140000
DTSTAMP:20260421T015943
CREATED:20220114T181415Z
LAST-MODIFIED:20220209T212424Z
UID:27157-1645102800-1645106400@www.smaor.com
SUMMARY:Risk Management - Robert Brand
DESCRIPTION:Risk Management with Robert Brand \n \nRegister Click [here]!\n 
URL:https://www.smaor.com/event/risk-management-robert-brand/
LOCATION:Online
END:VEVENT
BEGIN:VEVENT
DTSTART;TZID=America/Los_Angeles:20220302T080000
DTEND;TZID=America/Los_Angeles:20220302T170000
DTSTAMP:20260421T015943
CREATED:20220217T163153Z
LAST-MODIFIED:20220217T163153Z
UID:27185-1646208000-1646240400@www.smaor.com
SUMMARY:C.A.R.’s Virtual Legislative Day 2022
DESCRIPTION:  \n \nC.A.R.’s Virtual Legislative Day is coming up fast!\nJoin us on Wednesday\, March 2 for C.A.R.’s fully Virtual Legislative Day\,\na day that will inspire\, inform and enlighten you!\n \nThe need for REALTORS® to engage with state legislators is greater than ever. This year\, C.A.R. is hosting TWO Legislative Days – a fully VIRTUAL Legislative Day on\nMarch 2 and the IN-PERSON event in Sacramento on April 27. \nBoth Legislative Days will bring REALTORS® together from across the state to urge legislators to support creating opportunities for homeownership and to work with them to defeat bills that would impose unfair taxes and make homeownership even more expensive for working Californians.\n \nRegister for VIRTUAL Legislative Day here.\nPlease note: You will need your NRDS ID to register.\nIf you need the number\, you can find it here.​​​\n   \n​​​​​We look forward to seeing you at BOTH 2022 Legislative Days.\nMore details on the IN-PERSON Legislative Day on\nWednesday\, April 27 will be available soon. \nQuestions? For more info\, visit car.org or contact us at legislativeday@car.org.
URL:https://www.smaor.com/event/c-a-r-s-virtual-legislative-day-2022/
LOCATION:Online
END:VEVENT
BEGIN:VEVENT
DTSTART;TZID=America/Los_Angeles:20220308T090000
DTEND;TZID=America/Los_Angeles:20220308T100000
DTSTAMP:20260421T015943
CREATED:20220104T172115Z
LAST-MODIFIED:20220302T164435Z
UID:27143-1646730000-1646733600@www.smaor.com
SUMMARY:March MLS Meeting - CAR Government Affairs Rep. Christy Hayek
DESCRIPTION:March MLS Meeting – CAR Government Affairs Rep. ​Christy Hayek \nChristy Hayek is the newest Government Relations Representative for the California Association of Realtors. She is familiar with the Southern California region having been raised in Torrance. Christy earned a Bachelor’s degree in Political Science and Government with a minor in International Relations from American University in DC. She worked in DC for over 6 years as a legislative aide for several members of the House on Capitol Hill focusing on a number of policy issue areas\, including housing. Christy also assisted in several election campaigns. She moved to NYC in 2016 to work as the Manager for Public Affairs for the Association of Songwriters\, Composers\, Authors\, and Publishers. In December of 2019 she moved back to the west coast\, now working with the California Association of Realtors since early 2020. \n  \nJoin Zoom Meeting\nhttps://carorg.zoom.us/j/95621412978?pwd=Z3hXTjltV0RVWkRhczhtS2Z2M1dIUT09 \nMeeting ID: 956 2141 2978\nPasscode: 933861\nOne tap mobile\n+16699006833\,\,95621412978#\,\,\,\,*933861# US (San Jose)\nMeeting ID: 956 2141 2978\nPasscode: 933861\nFind your local number: https://carorg.zoom.us/u/ackNhTo7no \n 
URL:https://www.smaor.com/event/march-mls-meeting-car-government-affairs-rep-matt-bunch/
END:VEVENT
BEGIN:VEVENT
DTSTART;TZID=UTC:20220315T090000
DTEND;TZID=UTC:20220315T100000
DTSTAMP:20260421T015943
CREATED:20220308T213201Z
LAST-MODIFIED:20220308T213257Z
UID:27202-1647334800-1647338400@www.smaor.com
SUMMARY:Advanced Level Disclosure Strategies with Robert Brand
DESCRIPTION:Join speaker Robert Brand to learn:\nTDS/AVID disclosure techniques\, Staying Out of Court\nReview of Disclosure issues in the new RPA\nLimiting lawsuit potential on social media\nReview of the 3 best lawsuit avoidance disclosure strategies\nClick [here] to register.
URL:https://www.smaor.com/event/advanced-level-disclosure-strategies-with-robert-brand/
LOCATION:Online
END:VEVENT
BEGIN:VEVENT
DTSTART;TZID=UTC:20220405T090000
DTEND;TZID=UTC:20220405T100000
DTSTAMP:20260421T015943
CREATED:20220324T165356Z
LAST-MODIFIED:20220404T235052Z
UID:27209-1649149200-1649152800@www.smaor.com
SUMMARY:MLS Meeting - SM Community Development Director
DESCRIPTION:Santa Maria Community Development Director\n \n9AM click [here] to join us via zoom or in person
URL:https://www.smaor.com/event/mls-meeting-sm-community-development-director/
LOCATION:Santa Maria Association of Realtors\, 2236 S Broadway Ste E\, Santa Maria\, CA\, 93458
END:VEVENT
BEGIN:VEVENT
DTSTART;TZID=America/Los_Angeles:20220421T130000
DTEND;TZID=America/Los_Angeles:20220421T140000
DTSTAMP:20260421T015943
CREATED:20220104T232356Z
LAST-MODIFIED:20220217T235628Z
UID:27146-1650546000-1650549600@www.smaor.com
SUMMARY:Lunch & Learn - 1031 Exchange
DESCRIPTION:1031 Exchange – Lunch Learn\n \nKen Harris has been with the First American Family since August of 1994. He started at First American in the Escrow Division as an Escrow Officer and then in the year 2000 transferred from the Escrow division to the 1031 Exchange division of First American. By 2002 Ken had worked his way from being Exchange Assistant to an Exchange Officer. \nIn March of 2004 Ken obtained his designation as a Certified Exchange Specialist® from the Federation of Exchange Accommodators. The past 3 years he has specialized in handling the Reverse and Improvement Exchange transaction division for the Southern California Region which includes the Los Angeles\, Orange County\, San Diego and Hawaii offices. \nKen now is trying to build on his knowledge and skills by working in the field with clients as an Account Executive. He currently lives in Southern California with his wife and four children. \nClick [here] to register. \nMeeting ID: 961 6850 9927\nPasscode: 206384 \nDial by your location\n+1 669 900 6833 US (San Jose)\nMeeting ID: 961 6850 9927\nPasscode: 206384\nFind your local number: https://carorg.zoom.us/u/adjJrOGQdZ \n  \n 
URL:https://www.smaor.com/event/lunch-learn-1031-exchange/
LOCATION:Online
END:VEVENT
BEGIN:VEVENT
DTSTART;TZID=UTC:20220503T090000
DTEND;TZID=UTC:20220503T100000
DTSTAMP:20260421T015943
CREATED:20220502T174815Z
LAST-MODIFIED:20220502T174926Z
UID:27223-1651568400-1651572000@www.smaor.com
SUMMARY:May MLS Meeting - Gov Hutchinson
DESCRIPTION:May MLS Meeting- Guest Speaker Gov Hutchinson\n \nJoin Zoom Meeting\nhttps://carorg.zoom.us/j/99675023006?pwd=bitBaDNweS9udzhOdEtJTldheW5VZz09 \nMeeting ID: 996 7502 3006\nPasscode: 349543\nDial by your location\n+1 669 900 6833 US (San Jose) \n  \n 
URL:https://www.smaor.com/event/mls-meeting-gov-hutchinson/
END:VEVENT
END:VCALENDAR